Workbook

Sheet Index
A1: Alibaba IPO
A2: Prepared by - Dheeraj Vaidya, CFA, FRM
A3: email - dheeraj@wallstreetmojo.com
A4: websites: | B4: www.wallstreetmojo.com | F4: www.educorporatebridge.com
B7: Core Financial Statements
C8: Quarterly IS
C9: Income Statement
C10: Balance Sheet
C11: Cash Flows
B13: Supporting Financial Modeling Schedules
C14: Debt
C15: Working Capital
C16: Depreciation Schedule
C17: Amortization Schedule
C18: Shareholder's Equity
C19: Shares Oustanding
B21: Valuations
C22: DCF Valuation
C23: Option Value

Sheet Quarterly IS
A1: =Index!A1 -> Alibaba IPO
A2: Quarterly Income Statement
C4: Quarter Ended
C5: 41090 | D5: 41182 | E5: 41274 | F5: 41364 | G5: 41455 | H5: 41547 | I5: 41639 | J5: 41729
B6: (RMB in Million Except Per Share Amounts) | C6: 2012 | D6: 2012 | E6: 2012 | F6: 2013 | G6: 2013 | H6: 2013 | I6: 2013 | J6: 2014
B8: China commerce | C8: 5601 | D8: 6152 | E8: 10172 | F8: 7242 | G8: 9193 | H8: 9213 | I8: 16761 | J8: =J51 -> 12570.75
B9: International commerce | C9: 974 | D9: 1049 | E9: 1094 | F9: 1043 | G9: 1117 | H9: 1176 | I9: 1264 | J9: =J54 -> 1200.8
B10: Cloud computing and Internet infrastructure | C10: 155 | D10: 164 | E10: 165 | F10: 166 | G10: 174 | H10: 190 | I10: 196 | J10: =J57 -> 197.96
B11: Others | C11: 63 | D11: 92 | E11: 162 | F11: 223 | G11: 294 | H11: 371 | I11: 524 | J11: =J60 -> 707.4
B12: Revenue | C12: =SUM(C8:C11) -> 6793 | D12: =SUM(D8:D11) -> 7457 | E12: =SUM(E8:E11) -> 11593 | F12: =SUM(F8:F11) -> 8674 | G12: =SUM(G8:G11) -> 10778 | H12: =SUM(H8:H11) -> 10950 | I12: =SUM(I8:I11) -> 18745 | J12: =SUM(J8:J11) -> 14676.91
B14: Cost of revenue | C14: -2158 | D14: -2373 | E14: -2911 | F14: -2277 | G14: -2727 | H14: -3001 | I14: -4171 | J14: =-J66 -> -3228.9202
B15: Gross profit | C15: =C12+C14 -> 4635 | D15: =D12+D14 -> 5084 | E15: =E12+E14 -> 8682 | F15: =F12+F14 -> 6397 | G15: =G12+G14 -> 8051 | H15: =H12+H14 -> 7949 | I15: =I12+I14 -> 14574 | J15: =J12+J14 -> 11447.99
B17: Operating expenses:
B18: Product development expenses | C18: -848 | D18: -888 | E18: -1163 | F18: -854 | G18: -1018 | H18: -1168 | I18: -1707 | J18: =-J69 -> -1320.9219
B19: Sales and marketing expenses | C19: -869 | D19: -974 | E19: -1249 | F19: -521 | G19: -713 | H19: -657 | I19: -1897 | J19: =-J72 -> -1467.691
B20: General and administrative expenses(2) | C20: -537 | D20: -804 | E20: -1003 | F20: -545 | G20: -865 | H20: -793 | I20: -2046 | J20: =-J75 -> -1614.4601
B21: Amortization of intangible assets
B22: Impairment of goodwill and intangible assets | C22: — | D22: -3487 | E22: 0 | F22: 0 | G22: 0 | H22: 0 | I22: 0 | J22: 0
B23: Yahoo TIPLA amendment payment(3)
B24: Total operating expenses | C24: -4448 | D24: -8563 | E24: -6533 | F24: -4222 | G24: -5358 | H24: -5702 | I24: -9944 | J24: =SUM(J18:J20)+J14 -> -7631.9932
B27: Income (loss) from operations | C27: =C12+C24 -> 2345 | D27: =D12+D24 -> -1106 | E27: =E12+E24 -> 5060 | F27: =F12+F24 -> 4452 | G27: =G12+G24 -> 5420 | H27: =H12+H24 -> 5248 | I27: =I12+I24 -> 8801 | J27: =J12+J24 -> 7044.9168
B29: Interest and investment income (loss), net
B30: Interest Expense
B31: Other income (expense), net
B33: Loss before provision (benefit) for income taxes
B34: Income tax expenses
B35: Share of results of equity investees
B36: Net income (loss)
B37: Net income (loss) attributable to noncontrolling interests
B38: Net income (loss) attributable to Alibaba Group Holding Limited
B40: Accretion of redeemable convertible preferred stock
B41: Dividends accrued on convertible preference shares
B42: Net loss attributable to common stockholders | C42: 1722 | D42: -1560 | E42: 4045 | F42: 4197 | G42: 4384 | H42: 4883 | I42: 8266
B44: (1) Share-based compensation expense | C44: 279 | D44: 462 | E44: 293 | F44: 225 | G44: 396 | H44: 864 | I44: 659
B47: Growth Analysis and Drivers
B49: Revenue
B51: China commerce | C51: =C8 -> 5601 | D51: =D8 -> 6152 | E51: =E8 -> 10172 | F51: =F8 -> 7242 | G51: =G8 -> 9193 | H51: =H8 -> 9213 | I51: =I8 -> 16761 | J51: =I51*(1+J52) -> 12570.75
B52: % qoq (sequential) | D52: =D51/C51-1 -> 0.09837529 | E52: =E51/D51-1 -> 0.65344603 | F52: =F51/E51-1 -> -0.28804562 | G52: =G51/F51-1 -> 0.26940072 | H52: =H51/G51-1 -> 0.0021755684 | I52: =I51/H51-1 -> 0.81927711 | J52: -0.25
B54: International commerce | C54: =C9 -> 974 | D54: =D9 -> 1049 | E54: =E9 -> 1094 | F54: =F9 -> 1043 | G54: =G9 -> 1117 | H54: =H9 -> 1176 | I54: =I9 -> 1264 | J54: =I54*(1+J55) -> 1200.8
B55: % qoq (sequential) | D55: =D54/C54-1 -> 0.077002053 | E55: =E54/D54-1 -> 0.042897998 | F55: =F54/E54-1 -> -0.046617916 | G55: =G54/F54-1 -> 0.070949185 | H55: =H54/G54-1 -> 0.052820054 | I55: =I54/H54-1 -> 0.074829932 | J55: -0.05
...

Sheet IS
A1: =Index!A1 -> Alibaba IPO
A2: Annual Income Statement
C4: Historicals | H4: Forecasts
B5: (RMB in Million Except Per Share Amounts) | C5: 40268 | D5: =EOMONTH(C5,12) -> 40633 | E5: =EOMONTH(D5,12) -> 40999 | F5: =EOMONTH(E5,12) -> 41364 | G5: =EOMONTH(F5,12) -> 41729 | H5: =EOMONTH(G5,12) -> 42094 | I5: =EOMONTH(H5,12) -> 42460 | J5: =EOMONTH(I5,12) -> 42825 | K5: =EOMONTH(J5,12) -> 43190 | ... O5: =EOMONTH(N5,12) -> 44651
B7: Revenue
B8: China commerce | C8: 3716 | D8: 7665 | E8: 15637 | F8: 29167 | G8: =35167+'Quarterly IS'!J51 -> 47737.75 | H8: =H60 -> 60570.96 | I8: =I60 -> 76971.436 | J8: =J60 -> 97936.08 | K8: =K60 -> 124741.46 | L8: =L60 -> 156582.97 | M8: =M60 -> 179774.68 | N8: =N60 -> 197596.91 | O8: =O60 -> 207476.7
B9: International commerce | C9: 2620 | D9: 3433 | E9: 3765 | F9: 4160 | G9: =3557+'Quarterly IS'!J54 -> 4757.8 | H9: =H68 -> 5388.2 | I9: =I68 -> 6246.86 | J9: =J68 -> 7443.0905 | K9: =K68 -> 9141.0888 | L9: =L68 -> 11586.921 | M9: =M68 -> 13491.861 | N9: =N68 -> 14995.01 | O9: =O68 -> 16221.187
B10: Cloud computing and Internet infrastructure | C10: 144 | D10: 425 | E10: 515 | F10: 650 | G10: =560+'Quarterly IS'!J57 -> 757.96 | H10: =H71 -> 588 | I10: =I71 -> 617.4 | J10: =J71 -> 648.27 | K10: =K71 -> 680.6835 | L10: =L71 -> 714.71767 | M10: =M71 -> 750.45356 | N10: =N71 -> 787.97624 | O10: =O71 -> 827.37505
B11: Others | C11: 190 | D11: 380 | E11: 108 | F11: 540 | G11: =1189+'Quarterly IS'!J60 -> 1896.4 | H11: =H73 -> 1783.5 | I11: =I73 -> 2675.25 | J11: =J73 -> 4012.875 | K11: =K73 -> 6019.3125 | L11: =L73 -> 9028.9688 | M11: =M73 -> 11286.211 | N11: =N73 -> 12979.143 | O11: =O73 -> 14277.057
B12: Total | C12: =SUM(C8:C11) -> 6670 | D12: =SUM(D8:D11) -> 11903 | E12: =SUM(E8:E11) -> 20025 | F12: =SUM(F8:F11) -> 34517 | G12: =SUM(G8:G11) -> 55149.91 | H12: =SUM(H8:H11) -> 68330.66 | I12: =SUM(I8:I11) -> 86510.946 | J12: =SUM(J8:J11) -> 110040.32 | ... O12: =SUM(O8:O11) -> 238802.31
B14: Cost of revenue | C14: -1634 | D14: -3497 | E14: -6554 | F14: -9719 | G14: =-9899-'Quarterly IS'!J66 -> -13127.92 | H14: =-H80 -> -16399.358 | I14: =-I80 -> -20762.627 | J14: =-J80 -> -26409.676 | K14: =-K80 -> -33739.811 | L14: =-L80 -> -42699.26 | M14: =-M80 -> -49272.77 | N14: =-N80 -> -54326.168 | O14: =-O80 -> -57312.555
B15: Gross profit | C15: =C12+C14 -> 5036 | D15: =D12+D14 -> 8406 | E15: =E12+E14 -> 13471 | F15: =F12+F14 -> 24798 | G15: =G12+G14 -> 42021.99 | H15: =H12+H14 -> 51931.302 | I15: =I12+I14 -> 65748.319 | J15: =J12+J14 -> 83630.64 | ... O15: =O12+O14 -> 181489.76
L16: =L12/6.1264 -> 29040.478
B17: Operating expenses:
B18: Product development expenses | C18: -1135 | D18: -2062 | E18: -2897 | F18: -3753 | G18: =-3893-'Quarterly IS'!J69 -> -5213.9219 | H18: =-H83 -> -6491.4127 | I18: =-I83 -> -8218.5399 | J18: =-J83 -> -10453.83 | K18: =-K83 -> -13355.342 | L18: =-L83 -> -16901.79 | M18: =-M83 -> -19503.805 | N18: =-N83 -> -21504.108 | O18: =-O83 -> -22686.22
B19: Sales and marketing expenses | C19: -2335 | D19: -3154 | E19: -3058 | F19: -3613 | G19: =-3267-'Quarterly IS'!J72 -> -4734.691 | H19: =-H86 -> -5808.1061 | I19: =-I86 -> -7353.4304 | J19: =-J86 -> -9353.4269 | K19: =-K86 -> -11949.516 | L19: =-L86 -> -15122.654 | M19: =-M86 -> -17450.773 | N19: =-N86 -> -19240.518 | O19: =-O86 -> -20298.197
B20: General and administrative expenses(2) | C20: -1000 | D20: -1724 | E20: -2211 | F20: -2889 | G20: =-3704-'Quarterly IS'!J75 -> -5318.4601 | H20: =-H89 -> -6559.7434 | I20: =-I89 -> -8305.0509 | J20: =-J89 -> -10563.87 | K20: =-K89 -> -13495.924 | L20: =-L89 -> -17079.704 | M20: =-M89 -> -19709.108 | N20: =-N89 -> -21730.467 | O20: =-O89 -> -22925.022
B21: Amortization of intangible assets | C21: -131 | D21: -144 | E21: -155 | F21: -130 | G21: -197 | H21: 0 | I21: 0 | J21: 0 | K21: 0 | L21: 0 | M21: 0 | N21: 0 | O21: 0
B22: Impairment of goodwill and intangible assets | C22: -1308 | D22: 0 | E22: -135 | F22: -175 | G22: -44 | H22: 0 | I22: 0 | J22: 0 | K22: 0 | L22: 0 | M22: 0 | N22: 0 | O22: 0
B23: Yahoo TIPLA amendment payment(3) | C23: 0 | D23: 0 | E23: 0 | F23: -3487 | G23: 0
B24: Total operating expenses | C24: =SUM(C18:C23) -> -5909 | D24: =SUM(D18:D23) -> -7084 | E24: =SUM(E18:E23) -> -8456 | F24: =SUM(F18:F23) -> -14047 | G24: =SUM(G18:G23) -> -15508.073 | H24: =SUM(H18:H23) -> -18859.262 | I24: =SUM(I18:I23) -> -23877.021 | J24: =SUM(J18:J23) -> -30371.127 | ... O24: =SUM(O18:O23) -> -65909.439
B27: Income (loss) from operations | C27: =C15+C24 -> -873 | D27: =D15+D24 -> 1322 | E27: =E15+E24 -> 5015 | F27: =F15+F24 -> 10751 | G27: =G15+G24 -> 26513.917 | H27: =H15+H24 -> 33072.039 | I27: =I15+I24 -> 41871.298 | J27: =J15+J24 -> 53259.513 | ... O27: =O15+O24 -> 115580.32
B29: Interest and investment income (loss), net | C29: 384 | D29: 549 | E29: 258 | F29: 39 | G29: 1080 | H29: =Debt!H44 -> 1131.8008 | I29: =Debt!I44 -> 1539.6692 | J29: =Debt!J44 -> 2210.6839 | K29: =Debt!K44 -> 3236.1979 | L29: =Debt!L44 -> 4601.6527 | M29: =Debt!M44 -> 6226.0074 | N29: =Debt!N44 -> 8040.7285 | O29: =Debt!O44 -> 10005.827
B30: Interest Expense | C30: 0 | D30: -4 | E30: -68 | F30: -1572 | G30: -1842 | H30: =-Debt!H36 -> -1663.794 | I30: =-Debt!I36 -> -1035.405 | J30: =-Debt!J36 -> -599.76 | K30: =-Debt!K36 -> -464.9715 | L30: =-Debt!L36 -> -434.7945 | M30: =-Debt!M36 -> -404.6175 | N30: =-Debt!N36 -> -374.4405 | O30: =-Debt!O36 -> -344.2635
B31: Other income (expense), net | C31: 200 | D31: 68 | E31: 327 | F31: 894 | G31: 1178
B33: Loss before provision (benefit) for income taxes | C33: =C27+SUM(C29:C31) -> -289 | D33: =D27+SUM(D29:D31) -> 1935 | E33: =E27+SUM(E29:E31) -> 5532 | F33: =F27+SUM(F29:F31) -> 10112 | G33: =G27+SUM(G29:G31) -> 26929.917 | H33: =H27+SUM(H29:H31) -> 32540.046 | I33: =I27+SUM(I29:I31) -> 42375.562 | J33: =J27+SUM(J29:J31) -> 54870.437 | ... O33: =O27+SUM(O29:O31) -> 125241.88
B34: Income tax expenses | C34: -181 | D34: -327 | E34: -842 | F34: -1457 | G34: -1969 | H34: =-H95*H33 -> -3904.8056 | I34: =-I95*I33 -> -5932.5787 | J34: =-J95*J33 -> -8230.5655 | K34: =-K95*K33 -> -11330.109 | L34: =-L95*L33 -> -16249.866 | M34: =-M95*M33 -> -21037.629 | N34: =-N95*N33 -> -25789.293 | O34: =-O95*O33 -> -31310.471
B35: Share of results of equity investees | C35: -33 | D35: 0 | E35: -25 | F35: -6 | G35: -174
B36: Net income (loss) | C36: =SUM(C33:C35) -> -503 | D36: =SUM(D33:D35) -> 1608 | E36: =SUM(E33:E35) -> 4665 | F36: =SUM(F33:F35) -> 8649 | G36: =SUM(G33:G35) -> 24786.917 | H36: =SUM(H33:H35) -> 28635.241 | I36: =SUM(I33:I35) -> 36442.984 | J36: =SUM(J33:J35) -> 46639.871 | ... O36: =SUM(O33:O35) -> 93931.413
B37: Net income (loss) attributable to noncontrolling interests | C37: -299 | D37: -425 | E37: -437 | F37: -117 | G37: -29
B38: Net income (loss) attributable to Alibaba Group Holding Limited | C38: =SUM(C36:C37) -> -802 | D38: =SUM(D36:D37) -> 1183 | E38: =SUM(E36:E37) -> 4228 | F38: =SUM(F36:F37) -> 8532 | G38: =SUM(G36:G37) -> 24757.917 | H38: =SUM(H36:H37) -> 28635.241 | I38: =SUM(I36:I37) -> 36442.984 | J38: =SUM(J36:J37) -> 46639.871 | ... O38: =SUM(O36:O37) -> 93931.413
B40: Accretion of redeemable convertible preferred stock | F40: -17 | G40: -24
B41: Dividends accrued on convertible preference shares | F41: -111 | G41: -156
B42: Net loss attributable to common stockholders | C42: =SUM(C38:C41) -> -802 | D42: =SUM(D38:D41) -> 1183 | E42: =SUM(E38:E41) -> 4228 | F42: =SUM(F38:F41) -> 8404 | G42: =SUM(G38:G41) -> 24577.917 | H42: =SUM(H38:H41) -> 28635.241 | I42: =SUM(I38:I41) -> 36442.984 | J42: =SUM(J38:J41) -> 46639.871 | ... O42: =SUM(O38:O41) -> 93931.413
B44: EBITDA
B45: Income from Operations | H45: =H27 -> 33072.039 | I45: =I27 -> 41871.298 | J45: =J27 -> 53259.513 | K45: =K27 -> 68041.952 | L45: =L27 -> 86110.174 | M45: =M27 -> 99366.754 | N45: =N27 -> 109557.77 | O45: =O27 -> 115580.32
B46: Add: Share-based compensation expense | H46: =H92 -> 2391.5731 | I46: =I92 -> 3027.8831 | J46: =J92 -> 3851.4111 | K46: =K92 -> 4920.3891 | L46: =L92 -> 6226.9754 | M46: =M92 -> 7185.6124 | N46: =N92 -> 7922.5662 | O46: =O92 -> 8358.081
B47: Add: D&A | H47: =CF!H12 -> 2690.861 | I47: =CF!I12 -> 5069.3462 | J47: =CF!J12 -> 8088.5235 | K47: =CF!K12 -> 11938.282 | L47: =CF!L12 -> 16830.625 | M47: =CF!M12 -> 22717.127 | N47: =CF!N12 -> 29347.789 | O47: =CF!O12 -> 36493.022
B48: Adjusted EBITDA | H48: =SUM(H45:H47) -> 38154.474 | I48: =SUM(I45:I47) -> 49968.527 | J48: =SUM(J45:J47) -> 65199.447 | K48: =SUM(K45:K47) -> 84900.623 | L48: =SUM(L45:L47) -> 109167.77 | M48: =SUM(M45:M47) -> 129269.49 | N48: =SUM(N45:N47) -> 146828.13 | O48: =SUM(O45:O47) -> 160431.42
B51: Growth Analysis and Drivers
...

Sheet BS
A1: =Index!A1 -> Alibaba IPO
A2: Annual Balance Sheet
C3: Historicals | H3: Forecasts
B4: (RMB in Million Except Per Share Amounts) | C4: =IS!C5 -> 40268 | D4: =IS!D5 -> 40633 | E4: =IS!E5 -> 40999 | F4: =IS!F5 -> 41364 | G4: =IS!G5 -> 41729 | H4: =IS!H5 -> 42094 | I4: =IS!I5 -> 42460 | J4: =IS!J5 -> 42825 | ... O4: =IS!O5 -> 44651
G5: proforma
B6: ASSETS
B7: Current assets:
B8: Cash and cash equivalents | E8: 16857 | F8: 30396 | G8: =41714+6836 -> 48550 | H8: =CF!H74 -> 64630.081 | I8: =CF!I74 -> 89336.842 | J8: =CF!J74 -> 131731.55 | K8: =CF!K74 -> 191888.25 | L8: =CF!L74 -> 268277.02 | M8: =CF!M74 -> 354323.72 | N8: =CF!N74 -> 449749.13 | O8: =CF!O74 -> 550833.59
B9: Short-term investments | E9: 4887 | F9: 2290 | G9: 7248 | H9: =G9 -> 7248 | I9: =H9 -> 7248 | J9: =I9 -> 7248 | K9: =J9 -> 7248 | L9: =K9 -> 7248 | M9: =L9 -> 7248 | N9: =M9 -> 7248 | O9: =N9 -> 7248
B10: Restricted cash and escrow receivables | E10: 3312 | F10: 3687 | G10: 4244 | H10: =G10 -> 4244 | I10: =H10 -> 4244 | J10: =I10 -> 4244 | K10: =J10 -> 4244 | L10: =K10 -> 4244 | M10: =L10 -> 4244 | N10: =M10 -> 4244 | O10: =N10 -> 4244
B11: Loan receivables, net | E11: 581 | F11: 4426 | G11: 12434 | H11: ='Working Capital '!H10 -> 15032.745 | I11: ='Working Capital '!I10 -> 19032.408 | J11: ='Working Capital '!J10 -> 24208.87 | K11: ='Working Capital '!K10 -> 30928.16 | L11: ='Working Capital '!L10 -> 39140.988 | M11: ='Working Capital '!M10 -> 45166.706 | N11: ='Working Capital '!N10 -> 49798.987 | O11: ='Working Capital '!O10 -> 52536.509
B12: Investment securities | E12: 593 | F12: 629 | G12: 1207 | H12: =G12 -> 1207 | I12: =H12 -> 1207 | J12: =I12 -> 1207 | K12: =J12 -> 1207 | L12: =K12 -> 1207 | M12: =L12 -> 1207 | N12: =M12 -> 1207 | O12: =N12 -> 1207
B13: Prepayments, receivables and other assets | E13: 1669 | F13: 1734 | G13: 2980 | H13: ='Working Capital '!H11 -> 3758.1863 | I13: ='Working Capital '!I11 -> 4758.1021 | J13: ='Working Capital '!J11 -> 6052.2174 | K13: ='Working Capital '!K11 -> 7732.04 | L13: ='Working Capital '!L11 -> 9785.247 | M13: ='Working Capital '!M11 -> 11291.677 | N13: ='Working Capital '!N11 -> 12449.747 | O13: ='Working Capital '!O11 -> 13134.127
B14: Total current assets | E14: =SUM(E8:E13) -> 27899 | F14: =SUM(F8:F13) -> 43162 | G14: =SUM(G8:G13) -> 76663 | H14: =SUM(H8:H13) -> 96120.013 | I14: =SUM(I8:I13) -> 125826.35 | J14: =SUM(J8:J13) -> 174691.63 | K14: =SUM(K8:K13) -> 243247.45 | L14: =SUM(L8:L13) -> 329902.26 | ... O14: =SUM(O8:O13) -> 629203.23
B16: Investment in equity investees | E16: 1642 | F16: 1555 | G16: 13009 | H16: =G16 -> 13009 | I16: =H16 -> 13009 | J16: =I16 -> 13009 | K16: =J16 -> 13009 | L16: =K16 -> 13009 | M16: =L16 -> 13009 | N16: =M16 -> 13009 | O16: =N16 -> 13009
B17: Investment securities | E17: 248 | F17: 242 | G17: 1095 | H17: =G17 -> 1095 | I17: =H17 -> 1095 | J17: =I17 -> 1095 | K17: =J17 -> 1095 | L17: =K17 -> 1095 | M17: =L17 -> 1095 | N17: =M17 -> 1095 | O17: =N17 -> 1095
B18: Prepayments, receivables and other assets | E18: 1466 | F18: 1496 | G18: 2041 | H18: =G18 -> 2041 | I18: =H18 -> 2041 | J18: =I18 -> 2041 | K18: =J18 -> 2041 | L18: =K18 -> 2041 | M18: =L18 -> 2041 | N18: =M18 -> 2041 | O18: =N18 -> 2041
B19: Property and equipment, net | E19: 2463 | F19: 3808 | G19: 5973 | H19: ='Dep Capex '!H14 -> 10115.205 | I19: ='Dep Capex '!I14 -> 13696.953 | J19: ='Dep Capex '!J14 -> 16612.461 | K19: ='Dep Capex '!K14 -> 18732.434 | L19: ='Dep Capex '!L14 -> 19693.167 | M19: ='Dep Capex '!M14 -> 17506.361 | N19: ='Dep Capex '!N14 -> 10794.476 | O19: ='Dep Capex '!O14 -> -1818.3147
B20: Land use rights | E20: 1701 | F20: 1895 | G20: 1863 | H20: =G20 -> 1863 | I20: =H20 -> 1863 | J20: =I20 -> 1863 | K20: =J20 -> 1863 | L20: =K20 -> 1863 | M20: =L20 -> 1863 | N20: =M20 -> 1863 | O20: =N20 -> 1863
B21: Intangible assets | E21: 355 | F21: 334 | G21: 1610 | H21: ='Amort Intangible'!H14 -> 3930.5731 | I21: ='Amort Intangible'!I14 -> 6916.4562 | J21: ='Amort Intangible'!J14 -> 10737.867 | K21: ='Amort Intangible'!K14 -> 15632.256 | L21: ='Amort Intangible'!L14 -> 21813.232 | M21: ='Amort Intangible'!M14 -> 28948.844 | N21: ='Amort Intangible'!N14 -> 36821.41 | O21: ='Amort Intangible'!O14 -> 45129.491
B22: Goodwill | E22: 11436 | F22: 11294 | G22: 11640 | H22: =G22 -> 11640 | I22: =H22 -> 11640 | J22: =I22 -> 11640 | K22: =J22 -> 11640 | L22: =K22 -> 11640 | M22: =L22 -> 11640 | N22: =M22 -> 11640 | O22: =N22 -> 11640
B23: Total assets | E23: =SUM(E16:E22)+E14 -> 47210 | F23: =SUM(F16:F22)+F14 -> 63786 | G23: =SUM(G16:G22)+G14 -> 113894 | H23: =SUM(H16:H22)+H14 -> 139813.79 | I23: =SUM(I16:I22)+I14 -> 176087.76 | J23: =SUM(J16:J22)+J14 -> 231689.96 | K23: =SUM(K16:K22)+K14 -> 307260.14 | L23: =SUM(L16:L22)+L14 -> 401056.66 | ... O23: =SUM(O16:O22)+O14 -> 702162.4
B25: LIABILITIES
B26: Current liabilities:
B27: Current bank borrowings | E27: 1283 | F27: 3350 | G27: 1200 | H27: =Debt!H18 -> 0 | I27: =Debt!I18 -> 0 | J27: =Debt!J18 -> 0 | K27: =Debt!K18 -> 0 | L27: =Debt!L18 -> 0 | M27: =Debt!M18 -> 0 | N27: =Debt!N18 -> 0 | O27: =Debt!O18 -> 0
B28: Secured borrowings | E28: 0 | F28: 2098 | G28: 8884 | H28: =G28 -> 8884 | I28: =H28 -> 8884 | J28: =I28 -> 8884 | K28: =J28 -> 8884 | L28: =K28 -> 8884 | M28: =L28 -> 8884 | N28: =M28 -> 8884 | O28: =N28 -> 8884
B29: Income tax payable | E29: 375 | F29: 259 | G29: 451 | H29: =G29 -> 451 | I29: =H29 -> 451 | J29: =I29 -> 451 | K29: =J29 -> 451 | L29: =K29 -> 451 | M29: =L29 -> 451 | N29: =M29 -> 451 | O29: =N29 -> 451
B30: Escrow money payable | E30: 339 | F30: 1315 | G30: 2073 | H30: ='Working Capital '!H14 -> 2623.8973 | I30: ='Working Capital '!I14 -> 3322.0203 | J30: ='Working Capital '!J14 -> 4225.5481 | K30: ='Working Capital '!K14 -> 5398.3698 | L30: ='Working Capital '!L14 -> 6831.8816 | M30: ='Working Capital '!M14 -> 7883.6433 | N30: ='Working Capital '!N14 -> 8692.1869 | O30: ='Working Capital '!O14 -> 9170.0089
B31: Accrued expenses, accounts payable and other liabilities | E31: 4659 | F31: 8961 | G31: 13544 | H31: ='Working Capital '!H15 -> 16399.358 | I31: ='Working Capital '!I15 -> 20762.627 | J31: ='Working Capital '!J15 -> 26409.676 | K31: ='Working Capital '!K15 -> 33739.811 | L31: ='Working Capital '!L15 -> 42699.26 | M31: ='Working Capital '!M15 -> 49272.77 | N31: ='Working Capital '!N15 -> 54326.168 | O31: ='Working Capital '!O15 -> 57312.555
B32: Merchant deposits | E32: 745 | F32: 3083 | G32: 7879 | H32: ='Working Capital '!H16 -> 9839.615 | I32: ='Working Capital '!I16 -> 12457.576 | J32: ='Working Capital '!J16 -> 15845.806 | K32: ='Working Capital '!K16 -> 20243.887 | L32: ='Working Capital '!L16 -> 25619.556 | M32: ='Working Capital '!M16 -> 29563.662 | N32: ='Working Capital '!N16 -> 32595.701 | O32: ='Working Capital '!O16 -> 34387.533
B33: Deferred revenue and customer advances | E33: 4350 | F33: 4929 | G33: 6306 | H33: ='Working Capital '!H17 -> 8199.6792 | I33: ='Working Capital '!I17 -> 10381.314 | J33: ='Working Capital '!J17 -> 13204.838 | K33: ='Working Capital '!K17 -> 16869.905 | L33: ='Working Capital '!L17 -> 21349.63 | M33: ='Working Capital '!M17 -> 24636.385 | N33: ='Working Capital '!N17 -> 27163.084 | O33: ='Working Capital '!O17 -> 28656.278
B34: Total current liabilities | E34: =SUM(E27:E33) -> 11751 | F34: =SUM(F27:F33) -> 23995 | G34: =SUM(G27:G33) -> 40337 | H34: =SUM(H27:H33) -> 46397.55 | I34: =SUM(I27:I33) -> 56258.537 | J34: =SUM(J27:J33) -> 69020.867 | K34: =SUM(K27:K33) -> 85586.973 | L34: =SUM(L27:L33) -> 105835.33 | ... O34: =SUM(O27:O33) -> 138861.38
B36: Deferred revenue | E36: 529 | F36: 389 | G36: 396 | H36: =G36 -> 396 | I36: =H36 -> 396 | J36: =I36 -> 396 | K36: =J36 -> 396 | L36: =K36 -> 396 | M36: =L36 -> 396 | N36: =M36 -> 396 | O36: =N36 -> 396
B37: Deferred tax liabilities | E37: 413 | F37: 643 | G37: 1774 | H37: =G37 -> 1774 | I37: =H37 -> 1774 | J37: =I37 -> 1774 | K37: =J37 -> 1774 | L37: =K37 -> 1774 | M37: =L37 -> 1774 | N37: =M37 -> 1774 | O37: =N37 -> 1774
B38: Redeemable Preference Shares | E38: 0 | F38: 5191 | G38: 0 | H38: =G38 -> 0 | I38: =H38 -> 0 | J38: =I38 -> 0 | K38: =J38 -> 0 | L38: =K38 -> 0 | M38: =L38 -> 0 | N38: =M38 -> 0 | O38: =N38 -> 0
B39: Non-current bank borrowings | E39: 0 | F39: 22462 | G39: 30226 | H39: =Debt!H24 -> 21450 | I39: =Debt!I24 -> 11420 | J39: =Debt!J24 -> 7620 | K39: =Debt!K24 -> 7141 | L39: =Debt!L24 -> 6662 | M39: =Debt!M24 -> 6183 | N39: =Debt!N24 -> 5704 | O39: =Debt!O24 -> 5225
B40: Other liabilities | E40: 104 | F40: 60 | G40: 72 | H40: =G40 -> 72 | I40: =H40 -> 72 | J40: =I40 -> 72 | K40: =J40 -> 72 | L40: =K40 -> 72 | M40: =L40 -> 72 | N40: =M40 -> 72 | O40: =N40 -> 72
B42: Total liabilities | E42: =SUM(E36:E40)+E34 -> 12797 | F42: =SUM(F36:F40)+F34 -> 52740 | G42: =SUM(G36:G40)+G34 -> 72805 | H42: =SUM(H36:H40)+H34 -> 70089.55 | I42: =SUM(I36:I40)+I34 -> 69920.537 | J42: =SUM(J36:J40)+J34 -> 78882.867 | K42: =SUM(K36:K40)+K34 -> 94969.973 | L42: =SUM(L36:L40)+L34 -> 114739.33 | ... O42: =SUM(O36:O40)+O34 -> 146328.38
B44: Mezzanine equity: | F44: 10447 | G44: 0
B45: Others | E45: 30 | F45: 86 | G45: 126
...

Sheet CF
A1: =Index!A1 -> Alibaba IPO
A2: Annual Cash Flows
C3: Historicals | H3: Forecasts
B4: (RMB in Million Except Per Share Amounts) | C4: =BS!C4 -> 40268 | D4: =BS!D4 -> 40633 | E4: =BS!E4 -> 40999 | F4: =BS!F4 -> 41364 | G4: =BS!G4 -> 41729 | H4: =BS!H4 -> 42094 | I4: =BS!I4 -> 42460 | J4: =BS!J4 -> 42825 | ... O4: =BS!O4 -> 44651
B5: CASH FLOWS FROM OPERATING ACTIVITIES:
B6: Net income | E6: 4665 | F6: 8649 | G6: =17742+6836 -> 24578 | H6: =IS!H42 -> 28635.241 | I6: =IS!I42 -> 36442.984 | J6: =IS!J42 -> 46639.871 | K6: =IS!K42 -> 59483.07 | L6: =IS!L42 -> 74027.166 | M6: =IS!M42 -> 84150.515 | N6: =IS!N42 -> 91434.767 | O6: =IS!O42 -> 93931.413
B7: Adjustments to reconcile net income to net cash provided by operating activities:
B8: (Gain) Loss on disposals of equity investees | E8: -24 | F8: -68 | G8: 3
B9: Realized and unrealized loss (gain) related to investment securities | E9: 138 | F9: -80 | G9: -151
B10: Change in fair value of other assets and liabilities | E10: 264 | F10: 245 | G10: -36
B11: Loss (Gain) on disposals of other subsidiaries | E11: 3 | F11: -8 | G11: -316
B12: Depreciation and amortization of property and equipment and land use rights | E12: 715 | F12: 805 | G12: 947 | H12: =-'Dep Capex '!H12 -> 2690.861 | I12: =-'Dep Capex '!I12 -> 5069.3462 | J12: =-'Dep Capex '!J12 -> 8088.5235 | K12: =-'Dep Capex '!K12 -> 11938.282 | L12: =-'Dep Capex '!L12 -> 16830.625 | M12: =-'Dep Capex '!M12 -> 22717.127 | N12: =-'Dep Capex '!N12 -> 29347.789 | O12: =-'Dep Capex '!O12 -> 36493.022
B13: Amortization of intangible assets | E13: 155 | F13: 130 | G13: 197 | H13: =-'Amort Intangible'!H12 -> 71 | I13: =-'Amort Intangible'!I12 -> 42 | J13: =-'Amort Intangible'!J12 -> 30 | K13: =-'Amort Intangible'!K12 -> 26 | L13: =-'Amort Intangible'!L12 -> 46 | M13: =-'Amort Intangible'!M12 -> 50 | N13: =-'Amort Intangible'!N12 -> 50 | O13: =-'Amort Intangible'!O12 -> 50
B14: Share-based compensation expense | E14: 1254 | F14: 1259 | G14: 1919
B15: Equity-settled donation expense | E15: — | F15: — | G15: 1269
B16: Impairment of goodwill and intangible assets | E16: 135 | F16: 175 | G16: 44
B17: Loss (Gain) on disposals of property and equipment | E17: 3 | F17: 3 | G17: -1
B18: Share of results of equity investees | E18: 25 | F18: 6 | G18: 174
B19: Deferred income taxes | E19: 150 | F19: 104 | G19: 1141
B20: Allowance for doubtful accounts relating to micro loans | E20: 4 | F20: 120 | G20: 359
B21: Changes in assets and liabilities, net of effects of acquisitions and disposals:
B22: Restricted cash and escrow receivables | E22: -113 | F22: -974 | G22: -760 | H22: =BS!G10-BS!H10 -> 0 | I22: =BS!H10-BS!I10 -> 0 | J22: =BS!I10-BS!J10 -> 0 | K22: =BS!J10-BS!K10 -> 0 | L22: =BS!K10-BS!L10 -> 0 | M22: =BS!L10-BS!M10 -> 0 | N22: =BS!M10-BS!N10 -> 0 | O22: =BS!N10-BS!O10 -> 0
B23: Loan receivables | E23: -226 | F23: -2828 | G23: -8367 | H23: =BS!G11-BS!H11 -> -2598.7452 | I23: =BS!H11-BS!I11 -> -3999.663 | J23: =BS!I11-BS!J11 -> -5176.4613 | K23: =BS!J11-BS!K11 -> -6719.2905 | L23: =BS!K11-BS!L11 -> -8212.828 | M23: =BS!L11-BS!M11 -> -6025.7182 | N23: =BS!M11-BS!N11 -> -4632.2811 | O23: =BS!N11-BS!O11 -> -2737.5217
B24: Prepayments, receivables and other assets | E24: -240 | F24: -354 | G24: -1241 | H24: =BS!G13-BS!H13+BS!G18-BS!H18 -> -778.1863 | I24: =BS!H13-BS!I13+BS!H18-BS!I18 -> -999.91575 | J24: =BS!I13-BS!J13+BS!I18-BS!J18 -> -1294.1153 | K24: =BS!J13-BS!K13+BS!J18-BS!K18 -> -1679.8226 | L24: =BS!K13-BS!L13+BS!K18-BS!L18 -> -2053.207 | M24: =BS!L13-BS!M13+BS!L18-BS!M18 -> -1506.4296 | N24: =BS!M13-BS!N13+BS!M18-BS!N18 -> -1158.0703 | O24: =BS!N13-BS!O13+BS!N18-BS!O18 -> -684.38042
B25: Income tax payable | E25: 230 | F25: -116 | G25: 192 | H25: =BS!H29-BS!G29 -> 0 | I25: =BS!I29-BS!H29 -> 0 | J25: =BS!J29-BS!I29 -> 0 | K25: =BS!K29-BS!J29 -> 0 | L25: =BS!L29-BS!K29 -> 0 | M25: =BS!M29-BS!L29 -> 0 | N25: =BS!N29-BS!M29 -> 0 | O25: =BS!O29-BS!N29 -> 0
B26: Escrow money payable | E26: 94 | F26: 976 | G26: 758 | H26: =BS!H30-BS!G30 -> 550.89734 | I26: =BS!I30-BS!H30 -> 698.123 | J26: =BS!J30-BS!I30 -> 903.52779 | K26: =BS!K30-BS!J30 -> 1172.8216 | L26: =BS!L30-BS!K30 -> 1433.5118 | M26: =BS!M30-BS!L30 -> 1051.7617 | N26: =BS!N30-BS!M30 -> 808.54361 | O26: =BS!O30-BS!N30 -> 477.82197
B27: Accrued expenses, accounts payable and other liabilities | E27: 1332 | F27: 3657 | G27: 4526 | H27: =BS!H31-BS!G31 -> 2855.3584 | I27: =BS!I31-BS!H31 -> 4363.2687 | J27: =BS!J31-BS!I31 -> 5647.0487 | K27: =BS!K31-BS!J31 -> 7330.1351 | L27: =BS!L31-BS!K31 -> 8959.4487 | M27: =BS!M31-BS!L31 -> 6573.5108 | N27: =BS!N31-BS!M31 -> 5053.3976 | O27: =BS!O31-BS!N31 -> 2986.3873
B28: Merchant deposits | E28: 583 | F28: 2338 | G28: 4796 | H28: =BS!H32-BS!G32 -> 1960.615 | I28: =BS!I32-BS!H32 -> 2617.9612 | J28: =BS!J32-BS!I32 -> 3388.2292 | K28: =BS!K32-BS!J32 -> 4398.0811 | L28: =BS!L32-BS!K32 -> 5375.6692 | M28: =BS!M32-BS!L32 -> 3944.1065 | N28: =BS!N32-BS!M32 -> 3032.0385 | O28: =BS!O32-BS!N32 -> 1791.8324
B29: Deferred revenue and customer advances | E29: 128 | F29: 437 | G29: 1384 | H29: =BS!H33-BS!G33 -> 1893.6792 | I29: =BS!I33-BS!H33 -> 2181.6344 | J29: =BS!J33-BS!I33 -> 2823.5244 | K29: =BS!K33-BS!J33 -> 3665.0676 | L29: =BS!L33-BS!K33 -> 4479.7244 | M29: =BS!M33-BS!L33 -> 3286.7554 | N29: =BS!N33-BS!M33 -> 2526.6988 | O29: =BS!O33-BS!N33 -> 1493.1936
B30: Net cash used in operating activities | E30: =SUM(E6:E29) -> 9275 | F30: =SUM(F6:F29) -> 14476 | G30: =SUM(G6:G29) -> 31415 | H30: =SUM(H6:H29) -> 35280.72 | I30: =SUM(I6:I29) -> 46415.738 | J30: =SUM(J6:J29) -> 61050.148 | K30: =SUM(K6:K29) -> 79614.344 | L30: =SUM(L6:L29) -> 100886.11 | ... O30: =SUM(O6:O29) -> 133801.77
B32: CASH FLOWS FROM INVESTING ACTIVITIES:
B33: Decrease (Increase) in short-term investments, net | E33: 3728 | F33: 2589 | G33: -4965
B34: (Increase) Decrease in restricted cash | E34: -2108 | F34: 334 | G34: 291
B35: Decrease (Increase) in trading investment securities, net | E35: 167 | F35: -12 | G35: -160
B36: Acquisitions of available-for-sale and held-to-maturity investment securities | E36: -508 | F36: -60 | G36: -1051
B37: Disposals of available-for-sale investment securities | E37: 1966 | F37: 26 | G37: 365
B38: Acquisitions of
B39: - Land use rights and construction in progress | E39: -1419 | F39: -1457 | G39: -1326
B40: - Other property, equipment and intangible assets | E40: -749 | F40: -1046 | G40: -3010 | H40: =-('Dep Capex '!H7+'Amort Intangible'!H7) -> -9224.6391 | I40: =-('Dep Capex '!I7+'Amort Intangible'!I7) -> -11678.978 | J40: =-('Dep Capex '!J7+'Amort Intangible'!J7) -> -14855.443 | K40: =-('Dep Capex '!K7+'Amort Intangible'!K7) -> -18978.644 | L40: =-('Dep Capex '!L7+'Amort Intangible'!L7) -> -24018.334 | M40: =-('Dep Capex '!M7+'Amort Intangible'!M7) -> -27715.933 | N40: =-('Dep Capex '!N7+'Amort Intangible'!N7) -> -30558.47 | O40: =-('Dep Capex '!O7+'Amort Intangible'!O7) -> -32238.312
B41: Disposals of property and equipment | E41: 1 | F41: 301 | G41: —
...

Sheet Working Capital 
A1: =Index!A1 -> Alibaba IPO
A2: Working Capital
C4: Historicals | H4: Forecasts
B5: (RMB in Million Except Per Share Amounts) | C5: =BS!C4 -> 40268 | D5: =BS!D4 -> 40633 | E5: =BS!E4 -> 40999 | F5: =BS!F4 -> 41364 | G5: =BS!G4 -> 41729 | H5: =BS!H4 -> 42094 | I5: =BS!I4 -> 42460 | J5: =BS!J4 -> 42825 | ... O5: =BS!O4 -> 44651
B6: Net Sales | C6: =IS!C12 -> 6670 | D6: =IS!D12 -> 11903 | E6: =IS!E12 -> 20025 | F6: =IS!F12 -> 34517 | G6: =IS!G12 -> 55149.91 | H6: =IS!H12 -> 68330.66 | I6: =IS!I12 -> 86510.946 | J6: =IS!J12 -> 110040.32 | ... O6: =IS!O12 -> 238802.31
B7: Cost of Sales | C7: =-IS!C14 -> 1634 | D7: =-IS!D14 -> 3497 | E7: =-IS!E14 -> 6554 | F7: =-IS!F14 -> 9719 | G7: =-IS!G14 -> 13127.92 | H7: =-IS!H14 -> 16399.358 | I7: =-IS!I14 -> 20762.627 | J7: =-IS!J14 -> 26409.676 | ... O7: =-IS!O14 -> 57312.555
B9: Working Capital Balances
B10: Loan receivables, net | E10: =BS!E11 -> 581 | F10: =BS!F11 -> 4426 | G10: =BS!G11 -> 12434 | H10: =H26 -> 15032.745 | I10: =I26 -> 19032.408 | J10: =J26 -> 24208.87 | K10: =K26 -> 30928.16 | L10: =L26 -> 39140.988 | M10: =M26 -> 45166.706 | N10: =N26 -> 49798.987 | O10: =O26 -> 52536.509
B11: Prepayments, receivables and other assets | E11: =BS!E13 -> 1669 | F11: =BS!F13 -> 1734 | G11: =BS!G13 -> 2980 | H11: =H29 -> 3758.1863 | I11: =I29 -> 4758.1021 | J11: =J29 -> 6052.2174 | K11: =K29 -> 7732.04 | L11: =L29 -> 9785.247 | M11: =M29 -> 11291.677 | N11: =N29 -> 12449.747 | O11: =O29 -> 13134.127
B12: Total Non Cash Current Assets | D12: =SUM(D10:D11) -> 0 | E12: =SUM(E10:E11) -> 2250 | F12: =SUM(F10:F11) -> 6160 | G12: =SUM(G10:G11) -> 15414 | H12: =SUM(H10:H11) -> 18790.932 | I12: =SUM(I10:I11) -> 23790.51 | J12: =SUM(J10:J11) -> 30261.087 | K12: =SUM(K10:K11) -> 38660.2 | ... O12: =SUM(O10:O11) -> 65670.636
B14: Escrow money payable | E14: =BS!E30 -> 339 | F14: =BS!F30 -> 1315 | G14: =BS!G30 -> 2073 | H14: =H33 -> 2623.8973 | I14: =I33 -> 3322.0203 | J14: =J33 -> 4225.5481 | K14: =K33 -> 5398.3698 | L14: =L33 -> 6831.8816 | M14: =M33 -> 7883.6433 | N14: =N33 -> 8692.1869 | O14: =O33 -> 9170.0089
B15: Accrued expenses, accounts payable and other liabilities | E15: =BS!E31 -> 4659 | F15: =BS!F31 -> 8961 | G15: =BS!G31 -> 13544 | H15: =H36 -> 16399.358 | I15: =I36 -> 20762.627 | J15: =J36 -> 26409.676 | K15: =K36 -> 33739.811 | L15: =L36 -> 42699.26 | M15: =M36 -> 49272.77 | N15: =N36 -> 54326.168 | O15: =O36 -> 57312.555
B16: Merchant deposits | E16: =BS!E32 -> 745 | F16: =BS!F32 -> 3083 | G16: =BS!G32 -> 7879 | H16: =H39 -> 9839.615 | I16: =I39 -> 12457.576 | J16: =J39 -> 15845.806 | K16: =K39 -> 20243.887 | L16: =L39 -> 25619.556 | M16: =M39 -> 29563.662 | N16: =N39 -> 32595.701 | O16: =O39 -> 34387.533
B17: Deferred revenue and customer advances | E17: =BS!E33 -> 4350 | F17: =BS!F33 -> 4929 | G17: =BS!G33 -> 6306 | H17: =H42 -> 8199.6792 | I17: =I42 -> 10381.314 | J17: =J42 -> 13204.838 | K17: =K42 -> 16869.905 | L17: =L42 -> 21349.63 | M17: =M42 -> 24636.385 | N17: =N42 -> 27163.084 | O17: =O42 -> 28656.278
B18: Total Non-Debt Current Liabilities | D18: =SUM(D14:D17) -> 0 | E18: =SUM(E14:E17) -> 10093 | F18: =SUM(F14:F17) -> 18288 | G18: =SUM(G14:G17) -> 29802 | H18: =SUM(H14:H17) -> 37062.55 | I18: =SUM(I14:I17) -> 46923.537 | J18: =SUM(J14:J17) -> 59685.867 | K18: =SUM(K14:K17) -> 76251.973 | ... O18: =SUM(O14:O17) -> 129526.38
B20: Net Working Capital/ (Deficit) | D20: =D12-D18 -> 0 | E20: =E12-E18 -> -7843 | F20: =F12-F18 -> -12128 | G20: =G12-G18 -> -14388 | H20: =H12-H18 -> -18271.618 | I20: =I12-I18 -> -23133.027 | J20: =J12-J18 -> -29424.78 | K20: =K12-K18 -> -37591.773 | ... O20: =O12-O18 -> -63855.739
B22: (Increase)/ Decrease in Working Capital | E22: =D20-E20 -> 7843 | F22: =E20-F20 -> 4285 | G22: =F20-G20 -> 2260 | H22: =G20-H20 -> 3883.6185 | I22: =H20-I20 -> 4861.4086 | J22: =I20-J20 -> 6291.7534 | K22: =J20-K20 -> 8166.9922 | L22: =K20-L20 -> 9982.3191 | ... O22: =N20-O20 -> 3327.3332
B24: Ratios & Assumptions
B26: Loan receivables, net | E26: =E10 -> 581 | F26: =F10 -> 4426 | G26: =G10 -> 12434 | H26: =H27*H6 -> 15032.745 | I26: =I27*I6 -> 19032.408 | J26: =J27*J6 -> 24208.87 | K26: =K27*K6 -> 30928.16 | L26: =L27*L6 -> 39140.988 | M26: =M27*M6 -> 45166.706 | N26: =N27*N6 -> 49798.987 | O26: =O27*O6 -> 52536.509
B27: % of Sales | E27: =E26/E6 -> 0.029013733 | F27: =F26/F6 -> 0.12822667 | G27: =G26/G6 -> 0.22545821 | H27: 0.22 | I27: 0.22 | J27: 0.22 | K27: 0.22 | L27: 0.22 | M27: 0.22 | N27: 0.22 | O27: 0.22
B29: Prepayments, receivables and other assets | E29: =E11 -> 1669 | F29: =F11 -> 1734 | G29: =G11 -> 2980 | H29: =H30*H6 -> 3758.1863 | I29: =I30*I6 -> 4758.1021 | J29: =J30*J6 -> 6052.2174 | K29: =K30*K6 -> 7732.04 | L29: =L30*L6 -> 9785.247 | M29: =M30*M6 -> 11291.677 | N29: =N30*N6 -> 12449.747 | O29: =O30*O6 -> 13134.127
B30: % of Sales | E30: =E29/E6 -> 0.083345818 | F30: =F29/F6 -> 0.050236116 | G30: =G29/G6 -> 0.05403454 | H30: 0.055 | I30: 0.055 | J30: 0.055 | K30: 0.055 | L30: 0.055 | M30: 0.055 | N30: 0.055 | O30: 0.055
B33: Escrow money payable | E33: =E14 -> 339 | F33: =F14 -> 1315 | G33: =G14 -> 2073 | H33: =H34*H$7 -> 2623.8973 | I33: =I34*I$7 -> 3322.0203 | J33: =J34*J$7 -> 4225.5481 | K33: =K34*K$7 -> 5398.3698 | L33: =L34*L$7 -> 6831.8816 | M33: =M34*M$7 -> 7883.6433 | N33: =N34*N$7 -> 8692.1869 | O33: =O34*O$7 -> 9170.0089
B34: % of COGS | E34: =E14/E7 -> 0.051724138 | F34: =F14/F7 -> 0.13530199 | G34: =G14/G7 -> 0.15790772 | H34: 0.16 | I34: 0.16 | J34: 0.16 | K34: 0.16 | L34: 0.16 | M34: 0.16 | N34: 0.16 | O34: 0.16
B36: Accrued expenses, accounts payable and other liabilities | E36: =E15 -> 4659 | F36: =F15 -> 8961 | G36: =G15 -> 13544 | H36: =H37*H$7 -> 16399.358 | I36: =I37*I$7 -> 20762.627 | J36: =J37*J$7 -> 26409.676 | K36: =K37*K$7 -> 33739.811 | L36: =L37*L$7 -> 42699.26 | M36: =M37*M$7 -> 49272.77 | N36: =N37*N$7 -> 54326.168 | O36: =O37*O$7 -> 57312.555
B37: % of COGS | E37: =E36/E7 -> 0.71086359 | F37: =F36/F7 -> 0.92200844 | G37: =G36/G7 -> 1.0316943 | H37: 1 | I37: 1 | J37: 1 | K37: 1 | L37: 1 | M37: 1 | N37: 1 | O37: 1
B39: Merchant deposits | E39: =E16 -> 745 | F39: =F16 -> 3083 | G39: =G16 -> 7879 | H39: =H40*H$7 -> 9839.615 | I39: =I40*I$7 -> 12457.576 | J39: =J40*J$7 -> 15845.806 | K39: =K40*K$7 -> 20243.887 | L39: =L40*L$7 -> 25619.556 | M39: =M40*M$7 -> 29563.662 | N39: =N40*N$7 -> 32595.701 | O39: =O40*O$7 -> 34387.533
E40: =E39/E7 -> 0.11367104 | F40: =F39/F7 -> 0.31721371 | G40: =G39/G7 -> 0.60017123 | H40: 0.6 | I40: 0.6 | J40: 0.6 | K40: 0.6 | L40: 0.6 | M40: 0.6 | N40: 0.6 | O40: 0.6
B42: Deferred revenue and customer advances | E42: =E17 -> 4350 | F42: =F17 -> 4929 | G42: =G17 -> 6306 | H42: =H43*H$7 -> 8199.6792 | I42: =I43*I$7 -> 10381.314 | J42: =J43*J$7 -> 13204.838 | K42: =K43*K$7 -> 16869.905 | L42: =L43*L$7 -> 21349.63 | M42: =M43*M$7 -> 24636.385 | N42: =N43*N$7 -> 27163.084 | O42: =O43*O$7 -> 28656.278
B43: % of COGS | E43: =E42/E7 -> 0.66371681 | F43: =F42/F7 -> 0.50715094 | G43: =G42/G7 -> 0.48035027 | H43: 0.5 | I43: 0.5 | J43: 0.5 | K43: 0.5 | L43: 0.5 | M43: 0.5 | N43: 0.5 | O43: 0.5

Sheet Dep Capex 
A1: =Index!A1 -> Alibaba IPO
A2: Consolidated Depreciation and Capex
C4: Historicals | H4: Forecasts
B5: (RMB in Million Except Per Share Amounts) | C5: =BS!C4 -> 40268 | D5: =BS!D4 -> 40633 | E5: =BS!E4 -> 40999 | F5: =BS!F4 -> 41364 | G5: =BS!G4 -> 41729 | H5: =BS!H4 -> 42094 | I5: =BS!I4 -> 42460 | J5: =BS!J4 -> 42825 | ... O5: =BS!O4 -> 44651
B6: Net Sales | C6: =IS!C12 -> 6670 | D6: =IS!D12 -> 11903 | E6: =IS!E12 -> 20025 | F6: =IS!F12 -> 34517 | G6: =IS!G12 -> 55149.91 | H6: =IS!H12 -> 68330.66 | I6: =IS!I12 -> 86510.946 | J6: =IS!J12 -> 110040.32 | ... O6: =IS!O12 -> 238802.31
B7: Capital Expenditures | E7: =-(CF!E39+CF!E40) -> 2168 | F7: =-(CF!F39+CF!F40) -> 2503 | G7: =-(CF!G39+CF!G40) -> 4336 | H7: =H6*H8 -> 6833.066 | I7: =I6*I8 -> 8651.0946 | J7: =J6*J8 -> 11004.032 | K7: =K6*K8 -> 14058.255 | L7: =L6*L8 -> 17791.358 | M7: =M6*M8 -> 20530.321 | N7: =N6*N8 -> 22635.903 | O7: =O6*O8 -> 23880.231
B8: Capital Expenditures as % of Net Sales | E8: =-E7/E6 -> -0.10826467 | F8: =-F7/F6 -> -0.072514993 | G8: =-G7/G6 -> -0.078622068 | H8: 0.1 | I8: 0.1 | J8: 0.1 | K8: 0.1 | L8: 0.1 | M8: 0.1 | N8: 0.1 | O8: 0.1
B10: Beginning Net PP&E | H10: =G14 -> 5973 | I10: =H14 -> 10115.205 | J10: =I14 -> 13696.953 | K10: =J14 -> 16612.461 | L10: =K14 -> 18732.434 | M10: =L14 -> 19693.167 | N10: =M14 -> 17506.361 | O10: =N14 -> 10794.476
B11: Capital Expenditures | H11: =H7 -> 6833.066 | I11: =I7 -> 8651.0946 | J11: =J7 -> 11004.032 | K11: =K7 -> 14058.255 | L11: =L7 -> 17791.358 | M11: =M7 -> 20530.321 | N11: =N7 -> 22635.903 | O11: =O7 -> 23880.231
B12: (Depreciation Expense) | H12: =-H86 -> -2690.861 | I12: =-I86 -> -5069.3462 | J12: =-J86 -> -8088.5235 | K12: =-K86 -> -11938.282 | L12: =-L86 -> -16830.625 | M12: =-M86 -> -22717.127 | N12: =-N86 -> -29347.789 | O12: =-O86 -> -36493.022
B13: (Asset Sales )
B14: Ending Net PP&E | G14: =BS!G19 -> 5973 | H14: =SUM(H10:H13) -> 10115.205 | I14: =SUM(I10:I13) -> 13696.953 | J14: =SUM(J10:J13) -> 16612.461 | K14: =SUM(K10:K13) -> 18732.434 | L14: =SUM(L10:L13) -> 19693.167 | M14: =SUM(M10:M13) -> 17506.361 | N14: =SUM(N10:N13) -> 10794.476 | O14: =SUM(O10:O13) -> -1818.3147
B16: (as of Dec'2013) | E16: below are gross amounts
B17: PPE (Break-up for 2014) | E17: 2013 | F17: 2014 | G17: Useful Life | H17: Proportion of Assets
B18: Computer equipment and software | E18: 3640 | F18: 5772 | G18: 4 | H18: =F18/$F$23 -> 0.61365086
B19: Furniture, office and transportation equipment | E19: 242 | F19: 267 | G19: 4 | H19: =F19/$F$23 -> 0.028386137
B20: Buildings | E20: 892 | F20: 2630 | G20: 20 | H20: =F20/$F$23 -> 0.27960876 | I20: Straight Line Method of Depreciation
B21: Construction in progress | E21: 1720 | F21: 737 | H21: =F21/$F$23 -> 0.078354242 | I21: Straight Line Method of Depreciation
I22: Straight Line Method of Depreciation
B23: Total | E23: =SUM(E18:E22) -> 6494 | F23: =SUM(F18:F22) -> 9406
B26: Total Capex
B27: Breakup
B28: Computer equipment and software | H28: =H$7*$H18 -> 4193.1168 | I28: =I$7*$H18 -> 5308.7517 | J28: =J$7*$H18 -> 6752.6335 | K28: =K$7*$H18 -> 8626.86 | L28: =L$7*$H18 -> 10917.682 | M28: =M$7*$H18 -> 12598.449 | N28: =N$7*$H18 -> 13890.542 | O28: =O$7*$H18 -> 14654.125
B29: Furniture, office and transportation equipment | H29: =H$7*$H19 -> 193.96434 | I29: =I$7*$H19 -> 245.57115 | J29: =J$7*$H19 -> 312.36194 | K29: =K$7*$H19 -> 399.05953 | L29: =L$7*$H19 -> 505.02792 | M29: =M$7*$H19 -> 582.7765 | N29: =N$7*$H19 -> 642.54584 | O29: =O$7*$H19 -> 677.86751
B30: Buildings | H30: =H$7*$H20 -> 1910.5851 | I30: =I$7*$H20 -> 2418.9218 | J30: =J$7*$H20 -> 3076.8236 | K30: =K$7*$H20 -> 3930.8111 | L30: =L$7*$H20 -> 4974.6196 | M30: =M$7*$H20 -> 5740.4576 | N30: =N$7*$H20 -> 6329.1969 | O30: =O$7*$H20 -> 6677.1219
B31: Construction in progress | H31: =H$7*$H21 -> 535.39971 | I31: =I$7*$H21 -> 677.84996 | J31: =J$7*$H21 -> 862.21255 | K31: =K$7*$H21 -> 1101.5239 | L31: =L$7*$H21 -> 1394.0284 | M31: =M$7*$H21 -> 1608.6377 | N31: =N$7*$H21 -> 1773.619 | O31: =O$7*$H21 -> 1871.1174
B35: Computer equipment and software - Straight Line Method
B36: Useful Life | C36: =G18 -> 4
B37: Computer equipment and software | C37: =F18 -> 5772
B38: Depreciation Expense (existing) | H38: =$C37/$C36 -> 1443 | I38: =$C37/$C36 -> 1443 | J38: =$C37/$C36 -> 1443 | K38: =$C37/$C36 -> 1443 | L38: =$C37/$C36 -> 1443 | M38: =$C37/$C36 -> 1443 | N38: =$C37/$C36 -> 1443 | O38: =$C37/$C36 -> 1443
B40: Year | C40: Capex | D40: Useful Life
B41: 2015 | C41: {=TRANSPOSE(H28:O28)} -> 4193.1168 | D41: 3 | H41: =$C41/$D41/2 -> 698.85281 | I41: =$C41/$D41 -> 1397.7056 | J41: =$C41/$D41 -> 1397.7056 | K41: =$C41/$D41 -> 1397.7056 | L41: =$C41/$D41 -> 1397.7056 | M41: =$C41/$D41 -> 1397.7056 | N41: =$C41/$D41 -> 1397.7056 | O41: =$C41/$D41 -> 1397.7056
B42: =B41+1 -> 2016 | C42: 5308.7517 | D42: 3 | I42: =$C42/$D42/2 -> 884.79195 | J42: =$C42/$D42 -> 1769.5839 | K42: =$C42/$D42 -> 1769.5839 | L42: =$C42/$D42 -> 1769.5839 | M42: =$C42/$D42 -> 1769.5839 | N42: =$C42/$D42 -> 1769.5839 | O42: =$C42/$D42 -> 1769.5839
B43: =B42+1 -> 2017 | C43: 6752.6335 | D43: 3 | J43: =$C43/$D43/2 -> 1125.4389 | K43: =$C43/$D43 -> 2250.8778 | L43: =$C43/$D43 -> 2250.8778 | M43: =$C43/$D43 -> 2250.8778 | N43: =$C43/$D43 -> 2250.8778 | O43: =$C43/$D43 -> 2250.8778
B44: =B43+1 -> 2018 | C44: 8626.86 | D44: 3 | K44: =$C44/$D44/2 -> 1437.81 | L44: =$C44/$D44 -> 2875.62 | M44: =$C44/$D44 -> 2875.62 | N44: =$C44/$D44 -> 2875.62 | O44: =$C44/$D44 -> 2875.62
B45: =B44+1 -> 2019 | C45: 10917.682 | D45: 3 | L45: =$C45/$D45/2 -> 1819.6137 | M45: =$C45/$D45 -> 3639.2274 | N45: =$C45/$D45 -> 3639.2274 | O45: =$C45/$D45 -> 3639.2274
B46: =B45+1 -> 2020 | C46: 12598.449 | D46: 3 | M46: =$C46/$D46/2 -> 2099.7415 | N46: =$C46/$D46 -> 4199.4831 | O46: =$C46/$D46 -> 4199.4831
B47: =B46+1 -> 2021 | C47: 13890.542 | D47: 3 | N47: =$C47/$D47/2 -> 2315.0903 | O47: =$C47/$D47 -> 4630.1805
B48: =B47+1 -> 2022 | C48: 14654.125 | D48: 3 | O48: =$C48/$D48/2 -> 2442.3541
B50: Depreciation (Computer equipment and software) | H50: =SUM(H38:H48) -> 2141.8528 | I50: =SUM(I38:I48) -> 3725.4976 | J50: =SUM(J38:J48) -> 5735.7284 | K50: =SUM(K38:K48) -> 8298.9773 | L50: =SUM(L38:L48) -> 11556.401 | M50: =SUM(M38:M48) -> 15475.756 | N50: =SUM(N38:N48) -> 19890.588 | O50: =SUM(O38:O48) -> 24648.032
...

Sheet Amort Intangible
A1: =Index!A1 -> Alibaba IPO
A2: Consolidated Amortization & Intangible
A3: =IS!A3 -> 0
C4: Historicals | H4: Forecasts
B5: (RMB in Million Except Per Share Amounts) | C5: =BS!C4 -> 40268 | D5: =BS!D4 -> 40633 | E5: =BS!E4 -> 40999 | F5: =BS!F4 -> 41364 | G5: =BS!G4 -> 41729 | H5: =BS!H4 -> 42094 | I5: =BS!I4 -> 42460 | J5: =BS!J4 -> 42825 | ... O5: =BS!O4 -> 44651
B6: Net Sales | C6: =IS!C12 -> 6670 | D6: =IS!D12 -> 11903 | E6: =IS!E12 -> 20025 | F6: =IS!F12 -> 34517 | G6: =IS!G12 -> 55149.91 | H6: =IS!H12 -> 68330.66 | I6: =IS!I12 -> 86510.946 | J6: =IS!J12 -> 110040.32 | ... O6: =IS!O12 -> 238802.31
B7: Additions to Intangibles | F7: =(242-240+630-608+319-257+40-20) -> 106 | G7: =246-242+626-630+855-319+973-40 -> 1469 | H7: =H8*H6 -> 2391.5731 | I7: =I8*I6 -> 3027.8831 | J7: =J8*J6 -> 3851.4111 | K7: =K8*K6 -> 4920.3891 | L7: =L8*L6 -> 6226.9754 | M7: =M8*M6 -> 7185.6124 | N7: =N8*N6 -> 7922.5662 | O7: =O8*O6 -> 8358.081
B8: Additions to Intangibles as % of Net Sales | F8: =F7/F6 -> 0.0030709505 | G8: =G7/G6 -> 0.02663649 | H8: 0.035 | I8: 0.035 | J8: 0.035 | K8: 0.035 | L8: 0.035 | M8: 0.035 | N8: 0.035 | O8: 0.035
B10: Beginning Net Intangibles | H10: =G14 -> 1610 | I10: =H14 -> 3930.5731 | J10: =I14 -> 6916.4562 | K10: =J14 -> 10737.867 | L10: =K14 -> 15632.256 | M10: =L14 -> 21813.232 | N10: =M14 -> 28948.844 | O10: =N14 -> 36821.41
B11: Additions to Intangibles | H11: =H7 -> 2391.5731 | I11: =I7 -> 3027.8831 | J11: =J7 -> 3851.4111 | K11: =K7 -> 4920.3891 | L11: =L7 -> 6226.9754 | M11: =M7 -> 7185.6124 | N11: =N7 -> 7922.5662 | O11: =O7 -> 8358.081
B12: (Amortization Expense) | H12: -71 | I12: -42 | J12: -30 | K12: -26 | L12: -46 | M12: -50 | N12: -50 | O12: -50
B13: (Intangible Sales and write offs)
B14: Ending Net Intangibles | G14: =BS!G21 -> 1610 | H14: =SUM(H10:H13) -> 3930.5731 | I14: =SUM(I10:I13) -> 6916.4562 | J14: =SUM(J10:J13) -> 10737.867 | K14: =SUM(K10:K13) -> 15632.256 | L14: =SUM(L10:L13) -> 21813.232 | M14: =SUM(M10:M13) -> 28948.844 | N14: =SUM(N10:N13) -> 36821.41 | O14: =SUM(O10:O13) -> 45129.491

Sheet Debt
A1: =Index!A1 -> Alibaba IPO
A2: Debt Schedule
C4: Historicals | H4: Forecasts
B5: (RMB in Million Except Per Share Amounts) | C5: =BS!C4 -> 40268 | D5: =BS!D4 -> 40633 | E5: =BS!E4 -> 40999 | F5: =BS!F4 -> 41364 | G5: =BS!G4 -> 41729 | H5: =BS!H4 -> 42094 | I5: =BS!I4 -> 42460 | J5: =BS!J4 -> 42825 | ... O5: =BS!O4 -> 44651
B6: Cash Flow Available for Financing Activities | H6: =CF!H49 -> 26056.081 | I6: =CF!I49 -> 34736.761 | J6: =CF!J49 -> 46194.706 | K6: =CF!K49 -> 60635.7 | L6: =CF!L49 -> 76867.777 | M6: =CF!M49 -> 86525.696 | N6: =CF!N49 -> 95904.413 | O6: =CF!O49 -> 101563.46
B7: Proceeds from/ (Repurchase of) Equity
B8: + Beginning Cash Balance | H8: =BS!G8 -> 48550 | I8: =BS!H8 -> 64630.081 | J8: =BS!I8 -> 89336.842 | K8: =BS!J8 -> 131731.55 | L8: =BS!K8 -> 191888.25 | M8: =BS!L8 -> 268277.02 | N8: =BS!M8 -> 354323.72 | O8: =BS!N8 -> 449749.13
B9: - Minimum Cash Balance | H9: -10000 | I9: -10000 | J9: -10000 | K9: -10000 | L9: -10000 | M9: -10000 | N9: -10000 | O9: -10000
B10: Cash Available for Debt Repayment | H10: =SUM(H8:H9) -> 38550 | I10: =SUM(I8:I9) -> 54630.081 | J10: =SUM(J8:J9) -> 79336.842 | K10: =SUM(K8:K9) -> 121731.55 | L10: =SUM(L8:L9) -> 181888.25 | M10: =SUM(M8:M9) -> 258277.02 | N10: =SUM(N8:N9) -> 344323.72 | O10: =SUM(O8:O9) -> 439749.13
B11: Long Term Debt Issuance | H11: 0 | I11: 0 | J11: 0 | K11: 0 | L11: 0 | M11: 0 | N11: 0 | O11: 0
B12: Long Term Debt (Repayments) | H12: =H23 -> -8776 | I12: =I23 -> -10030 | J12: =J23 -> -3800 | K12: =K23 -> -479 | L12: =L23 -> -479 | M12: =M23 -> -479 | N12: =N23 -> -479 | O12: =O23 -> -479
B13: Cash Available for Revolving Credit Facility | H13: =SUM(H10:H12) -> 29774 | I13: =SUM(I10:I12) -> 44600.081 | J13: =SUM(J10:J12) -> 75536.842 | K13: =SUM(K10:K12) -> 121252.55 | L13: =SUM(L10:L12) -> 181409.25 | M13: =SUM(M10:M12) -> 257798.02 | N13: =SUM(N10:N12) -> 343844.72 | O13: =SUM(O10:O12) -> 439270.13
B15: Additional Revolving Credit Facility
B16: Beginning Balance | H16: =G18 -> 1200 | I16: =H18 -> 0 | J16: =I18 -> 0 | K16: =J18 -> 0 | L16: =K18 -> 0 | M16: =L18 -> 0 | N16: =M18 -> 0 | O16: =N18 -> 0
B17: Discretionary (Paydown)/ Borrowings | H17: =IF(H13<0,-H13,-MIN(H16,H13)) -> -1200 | I17: =IF(I13<0,-I13,-MIN(I16,I13)) -> 0 | J17: =IF(J13<0,-J13,-MIN(J16,J13)) -> 0 | K17: =IF(K13<0,-K13,-MIN(K16,K13)) -> 0 | L17: =IF(L13<0,-L13,-MIN(L16,L13)) -> 0 | M17: =IF(M13<0,-M13,-MIN(M16,M13)) -> 0 | N17: =IF(N13<0,-N13,-MIN(N16,N13)) -> 0 | O17: =IF(O13<0,-O13,-MIN(O16,O13)) -> 0
B18: Ending Balance | G18: =BS!G27 -> 1200 | H18: =SUM(H16:H17) -> 0 | I18: =SUM(I16:I17) -> 0 | J18: =SUM(J16:J17) -> 0 | K18: =SUM(K16:K17) -> 0 | L18: =SUM(L16:L17) -> 0 | M18: =SUM(M16:M17) -> 0 | N18: =SUM(N16:N17) -> 0 | O18: =SUM(O16:O17) -> 0
B20: Long Term (commited payments)
B21: Beginning Balance | H21: =G24 -> 30226 | I21: =H24 -> 21450 | J21: =I24 -> 11420 | K21: =J24 -> 7620 | L21: =K24 -> 7141 | M21: =L24 -> 6662 | N21: =M24 -> 6183 | O21: =N24 -> 5704
B22: Issuance
B23: (Repayment/ Amortization) | H23: -8776 | I23: -10030 | J23: -3800 | K23: -479 | L23: -479 | M23: -479 | N23: -479 | O23: -479
B24: Ending Balance | G24: =BS!G39 -> 30226 | H24: =SUM(H21:H23) -> 21450 | I24: =SUM(I21:I23) -> 11420 | J24: =SUM(J21:J23) -> 7620 | K24: =SUM(K21:K23) -> 7141 | L24: =SUM(L21:L23) -> 6662 | M24: =SUM(M21:M23) -> 6183 | N24: =SUM(N21:N23) -> 5704 | O24: =SUM(O21:O23) -> 5225
B26: Interest Expense Calculation
B28: 1) Revolving Credit Facility | H28: =AVERAGE(F18:H18) -> 600 | I28: =AVERAGE(H18:I18) -> 0 | J28: =AVERAGE(I18:J18) -> 0 | K28: =AVERAGE(J18:K18) -> 0 | L28: =AVERAGE(K18:L18) -> 0 | M28: =AVERAGE(L18:M18) -> 0 | N28: =AVERAGE(M18:N18) -> 0 | O28: =AVERAGE(N18:O18) -> 0
H29: 0.06 | I29: 0.06 | J29: 0.06 | K29: 0.06 | L29: 0.06 | M29: 0.06 | N29: 0.06 | O29: 0.06
B30: Interest Expense (Revolving Credit) | H30: =H29*H28 -> 36 | I30: =I29*I28 -> 0 | J30: =J29*J28 -> 0 | K30: =K29*K28 -> 0 | L30: =L29*L28 -> 0 | M30: =M29*M28 -> 0 | N30: =N29*N28 -> 0 | O30: =O29*O28 -> 0
B32: 2) Long Term (committed) | H32: =AVERAGE(F24:H24) -> 25838 | I32: =AVERAGE(H24:I24) -> 16435 | J32: =AVERAGE(I24:J24) -> 9520 | K32: =AVERAGE(J24:K24) -> 7380.5 | L32: =AVERAGE(K24:L24) -> 6901.5 | M32: =AVERAGE(L24:M24) -> 6422.5 | N32: =AVERAGE(M24:N24) -> 5943.5 | O32: =AVERAGE(N24:O24) -> 5464.5
H33: 0.063 | I33: 0.063 | J33: 0.063 | K33: 0.063 | L33: 0.063 | M33: 0.063 | N33: 0.063 | O33: 0.063
B34: Interest Expense | H34: =H33*H32 -> 1627.794 | I34: =I33*I32 -> 1035.405 | J34: =J33*J32 -> 599.76 | K34: =K33*K32 -> 464.9715 | L34: =L33*L32 -> 434.7945 | M34: =M33*M32 -> 404.6175 | N34: =N33*N32 -> 374.4405 | O34: =O33*O32 -> 344.2635
B36: (1) + (2): Total Interest Expense | H36: =H34+H30 -> 1663.794 | I36: =I34+I30 -> 1035.405 | J36: =J34+J30 -> 599.76 | K36: =K34+K30 -> 464.9715 | L36: =L34+L30 -> 434.7945 | M36: =M34+M30 -> 404.6175 | N36: =N34+N30 -> 374.4405 | O36: =O34+O30 -> 344.2635
B39: Cash Balances
B41: Cash Balance | E41: =BS!G8 -> 48550 | H41: =BS!H8 -> 64630.081 | I41: =BS!I8 -> 89336.842 | J41: =BS!J8 -> 131731.55 | K41: =BS!K8 -> 191888.25 | L41: =BS!L8 -> 268277.02 | M41: =BS!M8 -> 354323.72 | N41: =BS!N8 -> 449749.13 | O41: =BS!O8 -> 550833.59
B42: Average Cash Balance | H42: =AVERAGE(E41:H41) -> 56590.041 | I42: =AVERAGE(H41:I41) -> 76983.461 | J42: =AVERAGE(I41:J41) -> 110534.19 | K42: =AVERAGE(J41:K41) -> 161809.9 | L42: =AVERAGE(K41:L41) -> 230082.64 | M42: =AVERAGE(L41:M41) -> 311300.37 | N42: =AVERAGE(M41:N41) -> 402036.43 | O42: =AVERAGE(N41:O41) -> 500291.36
B44: Interest Earned | D44: 0.02 | H44: =H42*$D$44 -> 1131.8008 | I44: =I42*$D$44 -> 1539.6692 | J44: =J42*$D$44 -> 2210.6839 | K44: =K42*$D$44 -> 3236.1979 | L44: =L42*$D$44 -> 4601.6527 | M44: =M42*$D$44 -> 6226.0074 | N44: =N42*$D$44 -> 8040.7285 | O44: =O42*$D$44 -> 10005.827

Sheet Shareholders Equity
A1: =Index!A1 -> Alibaba IPO
A2: Consolidated Shareholder's Equity
C4: Historicals | H4: Forecasts
B5: (RMB in Million Except Per Share Amounts) | C5: =BS!C4 -> 40268 | D5: =BS!D4 -> 40633 | E5: =BS!E4 -> 40999 | F5: =BS!F4 -> 41364 | G5: =BS!G4 -> 41729 | H5: =BS!H4 -> 42094 | I5: =BS!I4 -> 42460 | J5: =BS!J4 -> 42825 | ... O5: =BS!O4 -> 44651
B6: Beginning Equity Balance | H6: =G9 -> 40963 | I6: =H9 -> 69598.241 | J6: =I9 -> 106041.22 | K6: =J9 -> 152681.1 | L6: =K9 -> 212164.17 | M6: =L9 -> 286191.33 | N6: =M9 -> 370341.85 | O6: =N9 -> 461776.61
B7: Net Income | H7: =IS!H42 -> 28635.241 | I7: =IS!I42 -> 36442.984 | J7: =IS!J42 -> 46639.871 | K7: =IS!K42 -> 59483.07 | L7: =IS!L42 -> 74027.166 | M7: =IS!M42 -> 84150.515 | N7: =IS!N42 -> 91434.767 | O7: =IS!O42 -> 93931.413
B8: Issuance/ (Repurchase) of Equity | H8: ='Shares Outstanding '!F13 -> 0
B9: Ending Equity Balance | G9: =BS!G59 -> 40963 | H9: =SUM(H6:H8) -> 69598.241 | I9: =SUM(I6:I8) -> 106041.22 | J9: =SUM(J6:J8) -> 152681.1 | K9: =SUM(K6:K8) -> 212164.17 | L9: =SUM(L6:L8) -> 286191.33 | M9: =SUM(M6:M8) -> 370341.85 | N9: =SUM(N6:N8) -> 461776.61 | O9: =SUM(O6:O8) -> 555708.03

Sheet Option value
A1: =Index!A1 -> Alibaba IPO
A2: Valuing Alibaba's Options
A4: Assumptions
A6: Inputs for Black-Scholes Model
A7: Enter the current stock price = | B7: =70 -> 70 | C7: $70 is expected IPO price; converting to RMB
A8: Enter the strike price on the option = | B8: ='Shares Outstanding '!E22 -> 12.33
A9: Enter the expiration of the option = | B9: ='Shares Outstanding '!F22 -> 4.1
A10: Enter the standard deviation in stock prices = | B10: 0.42
A11: Enter the annualized dividend yield on stock = | B11: 0
A12: Enter the treasury bond rate = | B12: 0.027
A13: Enter the number of warrants (options) outstanding = | B13: ='Shares Outstanding '!D24/10^6 -> 54.2795
A14: Enter the number of shares outstanding = | B14: ='Shares Outstanding '!C12/10^3 -> 2446645.9
A16: Calculation of Box Inc Option
A18: Stock Price= | B18: =B7 -> 70
A19: Strike Price= | B19: =B8 -> 12.33
A20: Adjusted S = | B20: =(B18*B25+B24*B37)/(B24+B25) -> 69.999758
A21: Adjusted K = | B21: =B19 -> 12.33
A22: Expiration (in years) = | B22: =B9 -> 4.1
A24: Options Issued | B24: =B13 -> 54.2795
A25: Total Shares outstanding | B25: =B14 -> 2446645.9
A26: T Bond Rate | B26: =B12 -> 0.027
A27: Variance | B27: =B10^2 -> 0.1764
A28: Annualized dividend yield | B28: =B11 -> 0
A29: Interest Rate | B29: =B26-B28 -> 0.027
A31: d1 = | B31: =(LN(B20/B21)+(B29+(B27/2))*B22)/(((B27)^(0.5))*(B22^0.5)) -> 2.5972308
A32: N (d1) = | B32: =NORMSDIST(B31) -> 0.99530106
A34: d2 = | B34: =B31-((B27^0.5)*(B22^(0.5))) -> 1.7467956
A35: N (d2) = | B35: =NORMSDIST(B34) -> 0.9596636
A37: Value per Alibaba's option = | B37: =((EXP((0-B28)*B22))*B20*B32-B21*(EXP((0-B26)*B22))*B35) -> 59.078157
A39: Value of all Alibaba's options outstanding = | B39: =B37*B13 -> 3206.7328

Sheet Shares Outstanding 
A1: =Index!A1 -> Alibaba IPO
A2: Shares Oustanding Schedule
B4: Common Shares
B6: Current Structure
C7: 0
B8: Ordinary Shares | C8: 2321114237
B9: Ordinary Shares | C9: 47670100 | D9: issuable upon vesting
B10: Ordinary Shares | C10: 77861552 | D10: future issuable
B11: Ordinary Shares Issued through IPO | D11: << put your number here
C12: =SUM(C8:C11) -> 2446645889
B15: Options Data
D17: Shares Subject to Outstanding Options | E17: Weighted- Average Exercise Price | F17: Weighted-Average Remaining Contractual Life (Years) | G17: Aggregate Intrinsic Value (in thousands)
B18: Outstanding at March 31, 2013 (i) | D18: 26189060
B19: Options granted | D19: 8095500
B20: Options exercised | D20: -16619426
B21: Cancelled/forfeited/expired | D21: -1308213
B22: Outstanding at December 31, 2013 (i) | D22: =SUM(D18:D21) -> 16356921 | E22: 12.33 | F22: 4.1
B24: Total Number of outstanding options provided in the prospectus | D24: 54279500
B25: (see below)

Sheet DCF Valuations
A1: =Index!A1 -> Alibaba IPO
A2: DCF Valuations
B4: Free Cash Flow Projections | C4: Historicals | H4: Forecasts
B5: (RMB in Million Except Per Share Amounts) | C5: =IS!C5 -> 40268 | D5: =IS!D5 -> 40633 | E5: =IS!E5 -> 40999 | F5: =IS!F5 -> 41364 | G5: =IS!G5 -> 41729 | H5: =IS!H5 -> 42094 | I5: =IS!I5 -> 42460 | J5: =IS!J5 -> 42825 | ... O5: =IS!O5 -> 44651
B7: EBIT | C7: =IS!C27 -> -873 | D7: =IS!D27 -> 1322 | E7: =IS!E27 -> 5015 | F7: =IS!F27 -> 10751 | G7: =IS!G27 -> 26513.917 | H7: =IS!H27 -> 33072.039 | I7: =IS!I27 -> 41871.298 | J7: =IS!J27 -> 53259.513 | ... O7: =IS!O27 -> 115580.32
B9: Free Cash Flow to Firm
B10: EBIT x (1-t) | C10: =C7*(1-IS!C95) -> -1419.7578 | D10: =D7*(1-IS!D95) -> 1098.5922 | E10: =E7*(1-IS!E95) -> 4251.6902 | F10: =F7*(1-IS!F95) -> 9201.9289 | G10: =G7*(1-IS!G95) -> 24575.333 | H10: =H7*(1-IS!H95) -> 29103.395 | I10: =I7*(1-IS!I95) -> 36009.316 | J10: =J7*(1-IS!J95) -> 45270.586 | ... O10: =O7*(1-IS!O95) -> 86685.24
B11: Add: Depreciation & amortization | E11: =CF!E12 -> 715 | F11: =CF!F12 -> 805 | G11: =CF!G12 -> 947 | H11: =CF!H12 -> 2690.861 | I11: =CF!I12 -> 5069.3462 | J11: =CF!J12 -> 8088.5235 | K11: =CF!K12 -> 11938.282 | L11: =CF!L12 -> 16830.625 | ... O11: =CF!O12 -> 36493.022
B12: Less: Capex | E12: =CF!E40 -> -749 | F12: =CF!F40 -> -1046 | G12: =CF!G40 -> -3010 | H12: =CF!H40 -> -9224.6391 | I12: =CF!I40 -> -11678.978 | J12: =CF!J40 -> -14855.443 | K12: =CF!K40 -> -18978.644 | L12: =CF!L40 -> -24018.334 | ... O12: =CF!O40 -> -32238.312
B13: Add: Change in working capital | F13: ='Working Capital '!F22 -> 4285 | G13: ='Working Capital '!G22 -> 2260 | H13: ='Working Capital '!H22 -> 3883.6185 | I13: ='Working Capital '!I22 -> 4861.4086 | J13: ='Working Capital '!J22 -> 6291.7534 | K13: ='Working Capital '!K22 -> 8166.9922 | L13: ='Working Capital '!L22 -> 9982.3191 | M13: ='Working Capital '!M22 -> 7323.9866 | ... O13: ='Working Capital '!O22 -> 3327.3332
B14: FCFF | F14: =SUM(F10:F13) -> 13245.929 | G14: =SUM(G10:G13) -> 24772.333 | H14: =SUM(H10:H13) -> 26453.235 | I14: =SUM(I10:I13) -> 34261.093 | J14: =SUM(J10:J13) -> 44795.42 | K14: =SUM(K10:K13) -> 58281.87 | L14: =SUM(L10:L13) -> 73404.953 | M14: =SUM(M10:M13) -> 81818.584 | ... O14: =SUM(O10:O13) -> 94267.282
B17: Cost of Capital | C17: 0.09
B18: Infinite growth rate | C18: 0.03
B20: Free cash flow to firm of explicit period (2015E to 2019E)
C21: =C5 -> 40268 | D21: =D5 -> 40633 | E21: =E5 -> 40999 | F21: =F5 -> 41364 | G21: =G5 -> 41729 | H21: =H5 -> 42094 | I21: =I5 -> 42460 | J21: =J5 -> 42825 | ... O21: =O5 -> 44651
B22: Cash Flows | H22: =H14 -> 26453.235 | I22: =I14 -> 34261.093 | J22: =J14 -> 44795.42 | K22: =K14 -> 58281.87 | L22: =L14 -> 73404.953 | M22: =M14 -> 81818.584 | N22: =N14 -> 89874.709 | O22: =O14 -> 94267.282
B23: NPV of explicit period | C23: =NPV(C17,H22:O22) -> 321952.57
B26: Terminal value @ perpetual growth (2019) | C26: =C5 -> 40268 | D26: =D5 -> 40633 | E26: =E5 -> 40999 | F26: =F5 -> 41364 | G26: =G5 -> 41729 | H26: =H5 -> 42094 | I26: =I5 -> 42460 | J26: =J5 -> 42825 | ... O26: =O5 -> 44651
B27: Terminal value as of 2019 | H27: 0 | I27: 0 | J27: 0 | K27: 0 | L27: 0 | M27: 0 | N27: 0 | O27: =O14*(1+C18)/(C17-C18) -> 1618255
B28: NPV of terminal value | C28: =NPV(C17,H27:O27) -> 812147.62
B30: DCF Valuation Summary
B32: DCF calculation as of | C32: Valuation (RMB) | D32: Valuation (US$)
B33: NPV of explicit period | C33: =C23 -> 321952.57 | D33: =C33/6.2164 -> 51790.839
B34: NPV of terminal value | C34: =C28 -> 812147.62 | D34: =C34/6.2164 -> 130645.97
B35: Enterprise Value | C35: =SUM(C33:C34) -> 1134100.2 | D35: =C35/6.2164 -> 182436.81
B36: + Cash | C36: =BS!G8 -> 48550 | D36: =C36/6.2164 -> 7809.9865
B37: - Debt | C37: =-(BS!G27+BS!G28+BS!G39) -> -40310 | D37: =C37/6.2164 -> -6484.4605
B38: Equity value | C38: =C35+C36+C37 -> 1142340.2 | D38: =C38/6.2134 -> 183851.06
B39: + Short term investments, restricted cash, investment securities | C39: =BS!G9+BS!G10+BS!G17 -> 12587 | D39: =C39/6.2164 -> 2024.8054
B40: +Investment in equity investees | C40: =BS!G16 -> 13009 | D40: =C40/6.2164 -> 2092.6903
B41: + Alipay valuation | C41: =D41*6.2164 -> 24865.6 | D41: 4000
B42: Stock Option Value | C42: ='Option value'!B39 -> 3206.7328 | D42: =C42/6.2134 -> 516.09953
B43: Adjusted Equity Value | C43: =C38+C39+C40+C41-C42 -> 1189595.1 | D43: =D38+D39+D40+D41-D42 -> 191452.46 | E43: $191.5 billion dollars
B45: Share Price | C45: =C43/('Shares Outstanding '!C12/10^6) -> 486.21465 | D45: =C45/6.2134 -> 78.252591
D47: Sensitivity Analysis
E48: WACC
D49: =D43/10^3 -> 191.45246 | E49: 0.07 | F49: 0.08 | G49: 0.09 | H49: 0.1 | I49: 0.11
C50: growth | D50: 0.01 | E50: 214.43787 | F50: 181.45743 | G50: 156.87167 | H50: 137.87441 | I50: 122.78245
D51: 0.02 | E51: 245.93159 | F51: 202.53478 | G51: 171.69201 | H51: 148.68751 | I51: 130.90193
D52: 0.03 | E52: 293.17217 | F52: 232.04308 | G52: 191.45246 | H52: 162.59007 | I52: 141.05128
...
