Workbook

Sheet Trace Dependents_Example
A1: Item | B1: Q1 Sales ($) | C1: Q2 Sales ($) | D1: Sales Difference Between Q1 and Q2 ($)
A2: AHL101 | B2: 150000 | C2: 100000 | D2: =B2-C2 -> 50000

Sheet Trace Dependents_Example1
A1: Value 1 | B1: Value 2 | C1: Description | D1: Output | E1: Formulas In Column D
A2: 50 | B2: 0 | C2: Add the two values. | D2: =A2+B2 -> 50 | E2: Formula in cell D2: =A2+B2
C3: Divide the first value by the second. | D3: =A2/B2 -> #DIV/0! | E3: Formula in cell D3: =A2/B2
A4: #VALUE! | B4: 33 | C4: Find the product of the two values. | D4: =A4*B4 -> #VALUE! | E4: Formula in cell D4: =A4*B4

Sheet Emp_Contact Number
A1: Employee Name | B1: Contact Number
A2: Allen Reed | B2: 715-850-7303
A3: John Smith | B3: 715-927-1877
A4: Kevin Ford | B4: 715-938-7266
A5: Mindy Thomas | B5: 920-227-3414
A6: Nancy Williams | B6: 920-264-7665

Sheet Emp_ID
A1: Employee ID | B1: Employee Name | C1: Employee Contact Number
A2: ATT_11 | B2: Allen Reed | C2: =VLOOKUP(B2,'Emp_Contact Number'!$A$2:$B$6,2,0) -> 715-850-7303
A3: ATT_12 | B3: Kevin Ford | C3: =VLOOKUP(B3,'Emp_Contact Number'!$A$2:$B$6,2,0) -> 715-938-7266
A4: ATT_13 | B4: John Smith | C4: =VLOOKUP(B4,'Emp_Contact Number'!$A$2:$B$6,2,0) -> 715-927-1877
A5: ATT_14 | B5: Nancy Williams | C5: =VLOOKUP(B5,'Emp_Contact Number'!$A$2:$B$6,2,0) -> 920-264-7665
A6: ATT_15 | B6: Mindy Thomas | C6: =VLOOKUP(B6,'Emp_Contact Number'!$A$2:$B$6,2,0) -> 920-227-3414

Sheet Trace Dependents_Example3
A1: Fruit | B1: Units Sold - Jan | C1: Units Sold - Feb | D1: Units Sold - Mar | E1: Total Units Sold
A2: Apple | B2: 150 | C2: 100 | D2: 260 | E2: =SUM(B2:D2) -> 510
A3: Banana | B3: 177 | C3: 180 | D3: 240 | E3: =SUM(B3:D3) -> 597
A4: Peach | B4: 220 | C4: 200 | D4: 300 | E4: =SUM(B4:D4) -> 720
A5: Pear | B5: 300 | C5: 260 | D5: 340 | E5: =SUM(B5:D5) -> 900
A8: Fruit | B8: Average Units Sold
A9: Apple | B9: =E2/3 -> 170
A10: Banana | B10: =E3/3 -> 199
A11: Peach | B11: =E4/3 -> 240
A12: Pear | B12: =E5/3 -> 300

Sheet TYPE_Example
A1: Value | B1: Data Type (TYPE()) | C1: Formulas In Column B
A2: 1 | B2: =TYPE(A2) -> 1 | C2: Formula in cell B2: =TYPE(A2)
A3: MS Excel | B3: =TYPE(A3) -> 2 | C3: Formula in cell B3: =TYPE(A3)
A4: 45170 | B4: =TYPE(A4) -> 1 | C4: Formula in cell B4: =TYPE(A4)

Sheet Data Type Codes
C2: Data Type | D2: Data Type Code
C3: Number | D3: 1
C4: Text | D4: 2
C5: Logical Value | D5: 4
C6: Error Value | D6: 16
C7: Array | D7: 64
C8: Compound Data | D8: 128

Sheet TYPE_Example1
A1: Data | B1: Description | C1: Data Type Code
A2: Mindy | B2: Determine the cell A2 data type. | C2: =TYPE(A2) -> 2
B3: Add a Space character and the text Ford to the cell A2 data and determine the result's data type. | C3: =TYPE(A2&" Ford") -> 2
B4: Add the value 5 to the cell A2 data and determine the result's data type. | C4: =TYPE(A2+5) -> 16
A5: Array Of Multiples Of 5:- {5;10;15;20;25} | B5: Determine the cell A5 array data type. | C5: =TYPE({5;10;15;20;25}) -> 64
A6: 50 | B6: Check if the cell A6 data is greater than 10 and determine the result's data type. | C6: =TYPE(AND(A6>10)) -> 4

Sheet TYPE_Example2
A1: Description | B1: Data | C1: Data Type
A2: Employee Name | B2: Allen Reed | C2: =IF(TYPE(B2)=1,"Number",IF(TYPE(B2)=2,"Text",IF(TYPE(B2)=4,"Logical Value",IF(TYPE(B2)=16,"Error Value","")))) -> Text
A3: Emp_ID | B3: 1010 | C3: =IF(TYPE(B3)=1,"Number",IF(TYPE(B3)=2,"Text",IF(TYPE(B3)=4,"Logical Value",IF(TYPE(B3)=16,"Error Value","")))) -> Number
A4: Contact Number | B4: (206) 342-8631 | C4: =IF(TYPE(B4)=1,"Number",IF(TYPE(B4)=2,"Text",IF(TYPE(B4)=4,"Logical Value",IF(TYPE(B4)=16,"Error Value","")))) -> Text
A5: Performance Appraisal Status (TRUE/FALSE) | B5: FALSE | C5: =IF(TYPE(B5)=1,"Number",IF(TYPE(B5)=2,"Text",IF(TYPE(B5)=4,"Logical Value",IF(TYPE(B5)=16,"Error Value","")))) -> Logical Value
A6: Performance Rating | B6: 5 | C6: =IF(TYPE(B6)=1,"Number",IF(TYPE(B6)=2,"Text",IF(TYPE(B6)=4,"Logical Value",IF(TYPE(B6)=16,"Error Value","")))) -> Number
A7: Address | B7: #N/A | C7: =IF(TYPE(B7)=1,"Number",IF(TYPE(B7)=2,"Text",IF(TYPE(B7)=4,"Logical Value",IF(TYPE(B7)=16,"Error Value","")))) -> Error Value

Sheet TYPE_Example3
A1: Item | B1: Quantity (Boxes) | C1: Cost Per Box ($) | D1: Total Price ($)
A2: TTB_111 | B2: 50 | C2: 10 | D2: =CHOOSE(MIN(TYPE(B2),3),B2*C2,"Quantity Is A Text Value.","Enter Quantity As An Integer.") -> 500
A3: TTB_112 | B3: 110 | C3: 10 | D3: =CHOOSE(MIN(TYPE(B3),3),B3*C3,"Quantity Is A Text Value.","Enter Quantity As An Integer.") -> 1100
A4: TTB_113 | B4: Ten | C4: 23 | D4: =CHOOSE(MIN(TYPE(B4),3),B4*C4,"Quantity Is A Text Value.","Enter Quantity As An Integer.") -> Quantity Is A Text Value.
A5: TTB_114 | B5: #N/A | C5: 15 | D5: =CHOOSE(MIN(TYPE(B5),3),B5*C5,"Quantity Is A Text Value.","Enter Quantity As An Integer.") -> Enter Quantity As An Integer.
A6: TTB_115 | B6: 200 | C6: 12 | D6: =CHOOSE(MIN(TYPE(B6),3),B6*C6,"Quantity Is A Text Value.","Enter Quantity As An Integer.") -> 2400
A7: TTB_116 | B7: 150 | C7: 10 | D7: =CHOOSE(MIN(TYPE(B7),3),B7*C7,"Quantity Is A Text Value.","Enter Quantity As An Integer.") -> 1500
A8: TTB_117 | B8: 90 | C8: 20 | D8: =CHOOSE(MIN(TYPE(B8),3),B8*C8,"Quantity Is A Text Value.","Enter Quantity As An Integer.") -> 1800
A9: TTB_118 | B9: TRUE | C9: 35 | D9: =CHOOSE(MIN(TYPE(B9),3),B9*C9,"Quantity Is A Text Value.","Enter Quantity As An Integer.") -> Enter Quantity As An Integer.
A10: TTB_119 | B10: 55 | C10: 20 | D10: =CHOOSE(MIN(TYPE(B10),3),B10*C10,"Quantity Is A Text Value.","Enter Quantity As An Integer.") -> 1100
A11: TTB_120 | B11: Hundred | C11: 5 | D11: =CHOOSE(MIN(TYPE(B11),3),B11*C11,"Quantity Is A Text Value.","Enter Quantity As An Integer.") -> Quantity Is A Text Value.

Sheet N_Example
A1: Value | B1: Number [N()] | C1: Formulas In Column B
A2: 50 | B2: =N(A2) -> 50 | C2: Formula in cell B2: =N(A2)
A3: 45200 | B3: =N(A3) -> 45200 | C3: Formula in cell B3: =N(A3)
B4: =N(A4) -> 0 | C4: Formula in cell B4: =N(A4)
A5: MS Excel | B5: =N(A5) -> 0 | C5: Formula in cell B5: =N(A5)
A6: #N/A | B6: =N(A6) -> #N/A | C6: Formula in cell B6: =N(A6)
H12: 0.66666667 | I12: 0.041666667 | J12: =H12+TIME(HOUR(I12),0,0) -> 0.70833333
H14: =HOUR(H12) -> 16 | I14: =MINUTE(I12) -> 0 | J14: =H12+TIME(0,MINUTE(I12),0) -> 0.66666667

Sheet Syntax
C3: Input Value | D3: N() Output
C4: A number | D4: Same number
C5: A valid date | D5: The date's serial number equivalent.
C6: TRUE | D6: 1
C7: FALSE | D7: 0
C8: An error value (#VALUE, #DIV/0!, #N/A, etc.) | D8: Same error value
C9: Other values | D9: 0

Sheet N_Example1
A1: Student | B1: Project Submission Date | C1: Project Submission Cut-off Date | D1: Project Submission Date Serial Number Equivalent
A2: Kevin Reed | B2: 45200 | C2: 45204 | D2: =IF(B2<=$C$2,N(B2),"Project Submission Date Missed.") -> 45200
A3: Nancy Thomas | B3: 45204 | D3: =IF(B3<=$C$2,N(B3),"Project Submission Date Missed.") -> 45204
A4: Mindy Frank | B4: 45210 | D4: =IF(B4<=$C$2,N(B4),"Project Submission Date Missed.") -> Project Submission Date Missed.
A5: Mark Ford | B5: 45209 | D5: =IF(B5<=$C$2,N(B5),"Project Submission Date Missed.") -> Project Submission Date Missed.
A6: John Flinch | B6: 45203 | D6: =IF(B6<=$C$2,N(B6),"Project Submission Date Missed.") -> 45203

Sheet N_Example2
A1: Fruit | B1: Quantity (Boxes) | C1: Quantity (Boxes)- Text Value? (1/0)
A2: Apple | B2: Ten | C2: =IF(N(B2)=0,0,1) -> 0
A3: Banana | B3: Twenty | C3: =IF(N(B3)=0,0,1) -> 0
A4: Peach | B4: 5 | C4: =IF(N(B4)=0,0,1) -> 0
A5: Pear | B5: 15 | C5: =IF(N(B5)=0,0,1) -> 1
A6: Watermelon | B6: Two | C6: =IF(N(B6)=0,0,1) -> 0

Sheet N_Example3
A1: Branch Office | B1: Laptop Units Sold
A2: Chicago | B2: 10
A3: Atlanta | B3: 20
A4: Houston | B4: 5
A5: Tampa | B5: 15
A6: Orlando | B6: 2
A7: Total Laptop Units Sold | B7: =SUM(B2:B6) -> 52

Sheet N_Example4
A1: Employee | B1: Month | C1: Attendance (Days)
A2: Allen Bundy | B2: Jan | C2: 22
B3: Feb | C3: 15
B4: Mar | C4: 20
B5: Apr | C5: 21
B6: May | C6: 18
B7: Jun | C7: 19
B8: Jul | C8: 22
B9: Aug | C9: 20
B10: Sep | C10: 10
B11: Oct | C11: 15
B12: Nov | C12: 18
B13: Dec | C13: 20
A15: Total Attendance (Days) | C15: =SUM(C2:C13)+N("Sum Of Allen Bundy's Monthly Attendance.") -> 220

Sheet N_Example5
A1: Quotes By Famous Personalities
A2: A rose by any other name would smell as sweet.
A3: All that glitters is not gold.
A4: All the world's a stage, and all the men and women merely players.
A5: Ask not what your country can do for you; ask what you can do for your country.
A6: Ask, and it shall be given you; seek, and you shall find.
A7: Eighty percent of success is showing up.
A9: Character Count Limit (N) | B9: 50
A10: Count Of Cells With More Than N Characters | B10: =SUMPRODUCT(N(LEN(A2:A7)>B9)) -> 3

Sheet Wallstreetmojo.com
A1: Hour Excel Template
A3: Prepared by Dheeraj Vaidya, CFA, FRM
A4: dheeraj@wallstreetmojo.com
A6: visit - www.wallstreetmojo.com

Sheet HOUR_Example
A1: Input Time Value | B1: Hour [HOUR()] | C1: Formulas In Column B
A2: 0.43072917 | B2: =HOUR(A2) -> 10 | C2: Formula in cell B2: =HOUR(A2)
A3: 45209.25 | B3: =HOUR(A3) -> 6 | C3: Formula in cell B3: =HOUR(A3)
A4: 0.8 | B4: =HOUR(A4) -> 19 | C4: Formula in cell B4: =HOUR(A4)
A5: 1.0416667 | B5: =HOUR(A5) -> 1 | C5: Formula in cell B5: =HOUR(A5)
A6: 0.35416667 | B6: =HOUR(A6) -> 8 | C6: Formula in cell B6: =HOUR(A6)

Sheet HOUR_Example1
A1: Experiment | B1: Test Time | C1: Test Hour [HOUR()]
A2: Exp_1 | B2: 0.57291667 | C2: =HOUR(B2) -> 13
A3: Exp_2 | B3: 0.58680556 | C3: =HOUR(B3) -> 14
A4: Exp_3 | B4: 0.68767361 | C4: =HOUR(B4) -> 16
A5: Exp_4 | B5: 0.090659722 | C5: =HOUR(B5) -> 2
A6: Exp_5 | B6: 1.3892361 | C6: =HOUR(B6) -> 9

Sheet HOUR_Example2
A1: Branch Office | B1: Inventory Delivery Schedule | C1: Inventory Delivery Hour [HOUR()]
A2: Plano | B2: 45200.188 | C2: =HOUR(B2) -> 4
A3: Dallas | B3: 45200.281 | C3: =HOUR(B3) -> 6
A4: Houston | B4: 45202.427 | C4: =HOUR(B4) -> 10
A5: Austin | B5: 45203 | C5: =HOUR(B5) -> 0
A6: Fort Worth | B6: 45203.806 | C6: =HOUR(B6) -> 19
A7: Arlington | B7: 45203.979 | C7: =HOUR(B7) -> 23
A8: Frisco | B8: 45204.049 | C8: =HOUR(B8) -> 1
A9: Irving | B9: 45204.137 | C9: =HOUR(B9) -> 3
A10: Denton | B10: 45209.351 | C10: =HOUR(B10) -> 8
A11: Conroe | B11: 45209.903 | C11: =HOUR(B11) -> 21

Sheet HOUR_Example3
A1: Agency Resource | B1: Swipe In Time | C1: 0.33333333 | D1: Total Hours Clocked
B2: Day 1- Swipe Out Time | C2: Day 2- Swipe Out Time
A3: Anthony Patterson | B3: 0.77083333 | C3: 0.6875 | D3: =HOUR(B3-$C$1)+HOUR(C3-$C$1) -> 18
A4: Kenneth Clark | B4: 0.5 | C4: 0.66666667 | D4: =HOUR(B4-$C$1)+HOUR(C4-$C$1) -> 12
A5: George Johnson | B5: 0.73958333 | C5: 0.63541667 | D5: =HOUR(B5-$C$1)+HOUR(C5-$C$1) -> 16
A6: Ann Thompson | B6: 0.75 | C6: 0.77083333 | D6: =HOUR(B6-$C$1)+HOUR(C6-$C$1) -> 20
A7: Kelly Gonzalez | B7: 0.60416667 | C7: 0.45833333 | D7: =HOUR(B7-$C$1)+HOUR(C7-$C$1) -> 9

Sheet HOUR_Example4
A1: Employee | B1: Entry Time | C1: Entry Time Deadline | D1: Rounded Entry Time To Nearest Hour
A2: Eugene Jackson | B2: 0.34375 | C2: 0.41666667 | D2: =IF(B2<$C$2,TIME(HOUR(B2),0,0),"Entry Time Deadline Missed.") -> 0.33333333
A3: Wayne Smith | B3: 0.4375 | D3: =IF(B3<$C$2,TIME(HOUR(B3),0,0),"Entry Time Deadline Missed.") -> Entry Time Deadline Missed.
A4: Phillip Cox | B4: 0.24305556 | D4: =IF(B4<$C$2,TIME(HOUR(B4),0,0),"Entry Time Deadline Missed.") -> 0.20833333
A5: Helen Gonzalez | B5: 0.39583333 | D5: =IF(B5<$C$2,TIME(HOUR(B5),0,0),"Entry Time Deadline Missed.") -> 0.375
A6: Janice Coleman | B6: 0.30555556 | D6: =IF(B6<$C$2,TIME(HOUR(B6),0,0),"Entry Time Deadline Missed.") -> 0.29166667
S13: =IF(H3<I3,TIME(HOUR(H3)+1,0,0),HOUR(H3)) -> 0

Sheet HOUR_FAQ
A1: Product | B1: Order Dispatch Time | C1: Order Dispatch Hour
A2: ATT_1 | B2: 0.15625 | C2: 3
A3: ATT_2 | B3: 0.67361111 | C3: 16
A4: ATT_3 | B4: 0.30902778 | C4: 7
A5: ATT_4 | B5: 0.84027778 | C5: 20
A6: ATT_5 | B6: 0.48611111 | C6: 11
